BEGIN:VCALENDAR
VERSION:2.0
PRODID:-//Stone County Library - ECPv6.15.18//NONSGML v1.0//EN
CALSCALE:GREGORIAN
METHOD:PUBLISH
X-ORIGINAL-URL:https://www.stonecountylibrary.org
X-WR-CALDESC:Events for Stone County Library
REFRESH-INTERVAL;VALUE=DURATION:PT1H
X-Robots-Tag:noindex
X-PUBLISHED-TTL:PT1H
BEGIN:VTIMEZONE
TZID:America/Chicago
BEGIN:DAYLIGHT
TZOFFSETFROM:-0600
TZOFFSETTO:-0500
TZNAME:CDT
DTSTART:20230312T080000
END:DAYLIGHT
BEGIN:STANDARD
TZOFFSETFROM:-0500
TZOFFSETTO:-0600
TZNAME:CST
DTSTART:20231105T070000
END:STANDARD
BEGIN:DAYLIGHT
TZOFFSETFROM:-0600
TZOFFSETTO:-0500
TZNAME:CDT
DTSTART:20240310T080000
END:DAYLIGHT
BEGIN:STANDARD
TZOFFSETFROM:-0500
TZOFFSETTO:-0600
TZNAME:CST
DTSTART:20241103T070000
END:STANDARD
BEGIN:DAYLIGHT
TZOFFSETFROM:-0600
TZOFFSETTO:-0500
TZNAME:CDT
DTSTART:20250309T080000
END:DAYLIGHT
BEGIN:STANDARD
TZOFFSETFROM:-0500
TZOFFSETTO:-0600
TZNAME:CST
DTSTART:20251102T070000
END:STANDARD
END:VTIMEZONE
BEGIN:VEVENT
DTSTART;TZID=America/Chicago:20240424T130000
DTEND;TZID=America/Chicago:20240424T133000
DTSTAMP:20260424T213355
CREATED:20240215T181312Z
LAST-MODIFIED:20240215T181312Z
UID:9517-1713963600-1713965400@www.stonecountylibrary.org
SUMMARY:Wednesday Walk in the Park
DESCRIPTION:Ages: 18+
URL:https://www.stonecountylibrary.org/event/wednesday-walk-in-the-park-22/
LOCATION:Crane Library\, 201 Main Street\, Crane\, MO\, 65633\, United States
CATEGORIES:Crane Events
END:VEVENT
BEGIN:VEVENT
DTSTART;TZID=America/Chicago:20240424T133000
DTEND;TZID=America/Chicago:20240424T143000
DTSTAMP:20260424T213355
CREATED:20240215T181632Z
LAST-MODIFIED:20240216T175829Z
UID:9525-1713965400-1713969000@www.stonecountylibrary.org
SUMMARY:Wednesday Workouts
DESCRIPTION:Ages: 18+
URL:https://www.stonecountylibrary.org/event/wednesday-workouts-25/
LOCATION:Crane Library\, 201 Main Street\, Crane\, MO\, 65633\, United States
CATEGORIES:Crane Events
END:VEVENT
BEGIN:VEVENT
DTSTART;TZID=America/Chicago:20240425T140000
DTEND;TZID=America/Chicago:20240425T150000
DTSTAMP:20260424T213355
CREATED:20240215T182424Z
LAST-MODIFIED:20240215T182424Z
UID:9533-1714053600-1714057200@www.stonecountylibrary.org
SUMMARY:The Community Table
DESCRIPTION:Bring a Cheesy recipe. \nAges: birth+
URL:https://www.stonecountylibrary.org/event/the-community-table-8/
LOCATION:Crane Library\, 201 Main Street\, Crane\, MO\, 65633\, United States
CATEGORIES:Crane Events
END:VEVENT
BEGIN:VEVENT
DTSTART;TZID=America/Chicago:20240426T100000
DTEND;TZID=America/Chicago:20240426T110000
DTSTAMP:20260424T213355
CREATED:20240319T183510Z
LAST-MODIFIED:20240319T183510Z
UID:9732-1714125600-1714129200@www.stonecountylibrary.org
SUMMARY:REC Squad
DESCRIPTION:Activities for adults with differing abilities in union with SCDDB \nCard Games! \nAges 18+
URL:https://www.stonecountylibrary.org/event/rec-squad-75/
LOCATION:Crane Library\, 201 Main Street\, Crane\, MO\, 65633\, United States
CATEGORIES:Crane Events
END:VEVENT
BEGIN:VEVENT
DTSTART;TZID=America/Chicago:20240429T110000
DTEND;TZID=America/Chicago:20240429T120000
DTSTAMP:20260424T213355
CREATED:20240215T203526Z
LAST-MODIFIED:20240216T173348Z
UID:9541-1714388400-1714392000@www.stonecountylibrary.org
SUMMARY:S.T.A.R.
DESCRIPTION:Ages: 6-12 years
URL:https://www.stonecountylibrary.org/event/s-t-a-r-s-7/
LOCATION:Crane Library\, 201 Main Street\, Crane\, MO\, 65633\, United States
CATEGORIES:Crane Events
END:VEVENT
BEGIN:VEVENT
DTSTART;TZID=America/Chicago:20240429T140000
DTEND;TZID=America/Chicago:20240429T150000
DTSTAMP:20260424T213355
CREATED:20240215T204005Z
LAST-MODIFIED:20240215T204005Z
UID:9545-1714399200-1714402800@www.stonecountylibrary.org
SUMMARY:The Art Guild
DESCRIPTION:Ages: 10-18 years
URL:https://www.stonecountylibrary.org/event/the-art-guild-12/
LOCATION:Crane Library\, 201 Main Street\, Crane\, MO\, 65633\, United States
CATEGORIES:Crane Events
END:VEVENT
BEGIN:VEVENT
DTSTART;TZID=America/Chicago:20240430T100000
DTEND;TZID=America/Chicago:20240430T110000
DTSTAMP:20260424T213355
CREATED:20240215T171640Z
LAST-MODIFIED:20240215T171640Z
UID:9450-1714471200-1714474800@www.stonecountylibrary.org
SUMMARY:Storytime
DESCRIPTION:Ages: birth-6 years
URL:https://www.stonecountylibrary.org/event/storytime-91/
LOCATION:Crane Library\, 201 Main Street\, Crane\, MO\, 65633\, United States
CATEGORIES:Crane Events
END:VEVENT
END:VCALENDAR