BEGIN:VCALENDAR
VERSION:2.0
PRODID:-//Stone County Library - ECPv6.15.18//NONSGML v1.0//EN
CALSCALE:GREGORIAN
METHOD:PUBLISH
X-ORIGINAL-URL:https://www.stonecountylibrary.org
X-WR-CALDESC:Events for Stone County Library
REFRESH-INTERVAL;VALUE=DURATION:PT1H
X-Robots-Tag:noindex
X-PUBLISHED-TTL:PT1H
BEGIN:VTIMEZONE
TZID:America/Chicago
BEGIN:DAYLIGHT
TZOFFSETFROM:-0600
TZOFFSETTO:-0500
TZNAME:CDT
DTSTART:20230312T080000
END:DAYLIGHT
BEGIN:STANDARD
TZOFFSETFROM:-0500
TZOFFSETTO:-0600
TZNAME:CST
DTSTART:20231105T070000
END:STANDARD
BEGIN:DAYLIGHT
TZOFFSETFROM:-0600
TZOFFSETTO:-0500
TZNAME:CDT
DTSTART:20240310T080000
END:DAYLIGHT
BEGIN:STANDARD
TZOFFSETFROM:-0500
TZOFFSETTO:-0600
TZNAME:CST
DTSTART:20241103T070000
END:STANDARD
BEGIN:DAYLIGHT
TZOFFSETFROM:-0600
TZOFFSETTO:-0500
TZNAME:CDT
DTSTART:20250309T080000
END:DAYLIGHT
BEGIN:STANDARD
TZOFFSETFROM:-0500
TZOFFSETTO:-0600
TZNAME:CST
DTSTART:20251102T070000
END:STANDARD
END:VTIMEZONE
BEGIN:VEVENT
DTSTART;TZID=America/Chicago:20240501T130000
DTEND;TZID=America/Chicago:20240501T133000
DTSTAMP:20260424T163611
CREATED:20240319T175803Z
LAST-MODIFIED:20240319T175803Z
UID:9673-1714568400-1714570200@www.stonecountylibrary.org
SUMMARY:Wednesday Walk in the Park
DESCRIPTION:Ages: birth+
URL:https://www.stonecountylibrary.org/event/wednesday-walk-in-the-park-23/
LOCATION:Crane Library\, 201 Main Street\, Crane\, MO\, 65633\, United States
CATEGORIES:Crane Events
END:VEVENT
BEGIN:VEVENT
DTSTART;TZID=America/Chicago:20240501T133000
DTEND;TZID=America/Chicago:20240501T140000
DTSTAMP:20260424T163611
CREATED:20240319T175959Z
LAST-MODIFIED:20240319T175959Z
UID:9681-1714570200-1714572000@www.stonecountylibrary.org
SUMMARY:Wednesday Workouts
DESCRIPTION:Ages: birth+
URL:https://www.stonecountylibrary.org/event/wednesday-workouts-26/
LOCATION:Crane Library\, 201 Main Street\, Crane\, MO\, 65633\, United States
CATEGORIES:Crane Events
END:VEVENT
BEGIN:VEVENT
DTSTART;TZID=America/Chicago:20240502T100000
DTEND;TZID=America/Chicago:20240502T110000
DTSTAMP:20260424T163611
CREATED:20240319T182058Z
LAST-MODIFIED:20240319T182058Z
UID:9702-1714644000-1714647600@www.stonecountylibrary.org
SUMMARY:BINGO
DESCRIPTION:Ages: birth+
URL:https://www.stonecountylibrary.org/event/bingo-52/
LOCATION:Crane Library\, 201 Main Street\, Crane\, MO\, 65633\, United States
CATEGORIES:Crane Events
END:VEVENT
BEGIN:VEVENT
DTSTART;TZID=America/Chicago:20240502T160000
DTEND;TZID=America/Chicago:20240502T170000
DTSTAMP:20260424T163611
CREATED:20240319T182129Z
LAST-MODIFIED:20240319T182129Z
UID:9704-1714665600-1714669200@www.stonecountylibrary.org
SUMMARY:BINGO
DESCRIPTION:Ages: birth+
URL:https://www.stonecountylibrary.org/event/bingo-53/
LOCATION:Crane Library\, 201 Main Street\, Crane\, MO\, 65633\, United States
CATEGORIES:Crane Events
END:VEVENT
BEGIN:VEVENT
DTSTART;TZID=America/Chicago:20240503T100000
DTEND;TZID=America/Chicago:20240503T110000
DTSTAMP:20260424T163611
CREATED:20240319T180336Z
LAST-MODIFIED:20240319T180336Z
UID:9690-1714730400-1714734000@www.stonecountylibrary.org
SUMMARY:REC Squad
DESCRIPTION:Activities for adults with differing abilities in union with SCDDB \nMovie Time! \nAges 18+
URL:https://www.stonecountylibrary.org/event/rec-squad-63/
LOCATION:Crane Library\, 201 Main Street\, Crane\, MO\, 65633\, United States
CATEGORIES:Crane Events
END:VEVENT
BEGIN:VEVENT
DTSTART;TZID=America/Chicago:20240506T110000
DTEND;TZID=America/Chicago:20240506T120000
DTSTAMP:20260424T163611
CREATED:20240319T174504Z
LAST-MODIFIED:20240319T174504Z
UID:9650-1714993200-1714996800@www.stonecountylibrary.org
SUMMARY:S.T.A.R.
DESCRIPTION:Ages: 6-12
URL:https://www.stonecountylibrary.org/event/s-t-a-r-13/
LOCATION:Crane Library\, 201 Main Street\, Crane\, MO\, 65633\, United States
CATEGORIES:Crane Events
END:VEVENT
BEGIN:VEVENT
DTSTART;TZID=America/Chicago:20240506T140000
DTEND;TZID=America/Chicago:20240506T150000
DTSTAMP:20260424T163611
CREATED:20240319T174724Z
LAST-MODIFIED:20240319T175015Z
UID:9658-1715004000-1715007600@www.stonecountylibrary.org
SUMMARY:The Art Guild
DESCRIPTION:Ages: 10-18 yrs
URL:https://www.stonecountylibrary.org/event/the-art-guild-15/
LOCATION:Crane Library\, 201 Main Street\, Crane\, MO\, 65633\, United States
CATEGORIES:Crane Events
END:VEVENT
BEGIN:VEVENT
DTSTART;TZID=America/Chicago:20240507T100000
DTEND;TZID=America/Chicago:20240507T110000
DTSTAMP:20260424T163611
CREATED:20240319T175446Z
LAST-MODIFIED:20240319T175446Z
UID:9665-1715076000-1715079600@www.stonecountylibrary.org
SUMMARY:Storytime
DESCRIPTION:Ages: birth-6 years
URL:https://www.stonecountylibrary.org/event/storytime-96/
LOCATION:Crane Library\, 201 Main Street\, Crane\, MO\, 65633\, United States
CATEGORIES:Crane Events
END:VEVENT
BEGIN:VEVENT
DTSTART;TZID=America/Chicago:20240509T140000
DTEND;TZID=America/Chicago:20240509T150000
DTSTAMP:20260424T163611
CREATED:20240319T182215Z
LAST-MODIFIED:20240319T182215Z
UID:9706-1715263200-1715266800@www.stonecountylibrary.org
SUMMARY:Community Table
DESCRIPTION:Berries \nAges: birth+
URL:https://www.stonecountylibrary.org/event/community-table-7/
LOCATION:Crane Library\, 201 Main Street\, Crane\, MO\, 65633\, United States
CATEGORIES:Crane Events
END:VEVENT
BEGIN:VEVENT
DTSTART;TZID=America/Chicago:20240510T100000
DTEND;TZID=America/Chicago:20240510T110000
DTSTAMP:20260424T163611
CREATED:20240319T180420Z
LAST-MODIFIED:20240319T181023Z
UID:9692-1715335200-1715338800@www.stonecountylibrary.org
SUMMARY:REC Squad
DESCRIPTION:Activities for adults with differing abilities in union with SCDDB \nKaraoke! \nAges 18+
URL:https://www.stonecountylibrary.org/event/rec-squad-64/
LOCATION:Crane Library\, 201 Main Street\, Crane\, MO\, 65633\, United States
CATEGORIES:Crane Events
END:VEVENT
BEGIN:VEVENT
DTSTART;TZID=America/Chicago:20240513T110000
DTEND;TZID=America/Chicago:20240513T120000
DTSTAMP:20260424T163611
CREATED:20240319T174537Z
LAST-MODIFIED:20240319T175040Z
UID:9652-1715598000-1715601600@www.stonecountylibrary.org
SUMMARY:S.T.A.R.
DESCRIPTION:Ages: 6-12
URL:https://www.stonecountylibrary.org/event/s-t-a-r-14/
LOCATION:Crane Library\, 201 Main Street\, Crane\, MO\, 65633\, United States
CATEGORIES:Crane Events
END:VEVENT
BEGIN:VEVENT
DTSTART;TZID=America/Chicago:20240513T140000
DTEND;TZID=America/Chicago:20240513T150000
DTSTAMP:20260424T163611
CREATED:20240319T174803Z
LAST-MODIFIED:20240319T175118Z
UID:9660-1715608800-1715612400@www.stonecountylibrary.org
SUMMARY:The Art Guild
DESCRIPTION:Ages: 10-18 yrs
URL:https://www.stonecountylibrary.org/event/the-art-guild-16/
LOCATION:Crane Library\, 201 Main Street\, Crane\, MO\, 65633\, United States
CATEGORIES:Crane Events
END:VEVENT
BEGIN:VEVENT
DTSTART;TZID=America/Chicago:20240514T100000
DTEND;TZID=America/Chicago:20240514T110000
DTSTAMP:20260424T163611
CREATED:20240319T175523Z
LAST-MODIFIED:20240319T175523Z
UID:9667-1715680800-1715684400@www.stonecountylibrary.org
SUMMARY:Storytime
DESCRIPTION:Ages: birth-6 years
URL:https://www.stonecountylibrary.org/event/storytime-97/
LOCATION:Crane Library\, 201 Main Street\, Crane\, MO\, 65633\, United States
CATEGORIES:Crane Events
END:VEVENT
BEGIN:VEVENT
DTSTART;TZID=America/Chicago:20240515T130000
DTEND;TZID=America/Chicago:20240515T133000
DTSTAMP:20260424T163611
CREATED:20240319T175830Z
LAST-MODIFIED:20240319T175830Z
UID:9675-1715778000-1715779800@www.stonecountylibrary.org
SUMMARY:Wednesday Walk in the Park
DESCRIPTION:Ages: birth+
URL:https://www.stonecountylibrary.org/event/wednesday-walk-in-the-park-24/
LOCATION:Crane Library\, 201 Main Street\, Crane\, MO\, 65633\, United States
CATEGORIES:Crane Events
END:VEVENT
BEGIN:VEVENT
DTSTART;TZID=America/Chicago:20240515T133000
DTEND;TZID=America/Chicago:20240515T140000
DTSTAMP:20260424T163611
CREATED:20240319T180031Z
LAST-MODIFIED:20240319T180031Z
UID:9683-1715779800-1715781600@www.stonecountylibrary.org
SUMMARY:Wednesday Workouts
DESCRIPTION:Ages: birth+
URL:https://www.stonecountylibrary.org/event/wednesday-workouts-27/
LOCATION:Crane Library\, 201 Main Street\, Crane\, MO\, 65633\, United States
CATEGORIES:Crane Events
END:VEVENT
BEGIN:VEVENT
DTSTART;TZID=America/Chicago:20240516T140000
DTEND;TZID=America/Chicago:20240516T150000
DTSTAMP:20260424T163611
CREATED:20240319T182255Z
LAST-MODIFIED:20240319T182255Z
UID:9708-1715868000-1715871600@www.stonecountylibrary.org
SUMMARY:Dominoes
DESCRIPTION:Ages: 18+
URL:https://www.stonecountylibrary.org/event/dominoes-5/
LOCATION:Crane Library\, 201 Main Street\, Crane\, MO\, 65633\, United States
CATEGORIES:Crane Events
END:VEVENT
BEGIN:VEVENT
DTSTART;TZID=America/Chicago:20240517T100000
DTEND;TZID=America/Chicago:20240517T110000
DTSTAMP:20260424T163611
CREATED:20240319T180516Z
LAST-MODIFIED:20240319T180516Z
UID:9694-1715940000-1715943600@www.stonecountylibrary.org
SUMMARY:REC Squad
DESCRIPTION:Activities for adults with differing abilities in union with SCDDB \nPaper Tube Flower Print Craft! \nAges 18+
URL:https://www.stonecountylibrary.org/event/rec-squad-65/
LOCATION:Crane Library\, 201 Main Street\, Crane\, MO\, 65633\, United States
CATEGORIES:Crane Events
END:VEVENT
BEGIN:VEVENT
DTSTART;TZID=America/Chicago:20240520T110000
DTEND;TZID=America/Chicago:20240520T120000
DTSTAMP:20260424T163611
CREATED:20240319T174601Z
LAST-MODIFIED:20240319T174929Z
UID:9654-1716202800-1716206400@www.stonecountylibrary.org
SUMMARY:S.T.A.R.
DESCRIPTION:Ages: 6-12
URL:https://www.stonecountylibrary.org/event/s-t-a-r-15/
LOCATION:Crane Library\, 201 Main Street\, Crane\, MO\, 65633\, United States
CATEGORIES:Crane Events
END:VEVENT
BEGIN:VEVENT
DTSTART;TZID=America/Chicago:20240520T140000
DTEND;TZID=America/Chicago:20240520T150000
DTSTAMP:20260424T163611
CREATED:20240319T174829Z
LAST-MODIFIED:20240409T170701Z
UID:9662-1716213600-1716217200@www.stonecountylibrary.org
SUMMARY:The Art Guild
DESCRIPTION:Ages: 10-18 yrs
URL:https://www.stonecountylibrary.org/event/the-art-guild-17/
LOCATION:Crane Library\, 201 Main Street\, Crane\, MO\, 65633\, United States
CATEGORIES:Crane Events
END:VEVENT
BEGIN:VEVENT
DTSTART;TZID=America/Chicago:20240521T100000
DTEND;TZID=America/Chicago:20240521T110000
DTSTAMP:20260424T163611
CREATED:20240319T175559Z
LAST-MODIFIED:20240319T175559Z
UID:9669-1716285600-1716289200@www.stonecountylibrary.org
SUMMARY:Storytime
DESCRIPTION:Ages: birth-6 years
URL:https://www.stonecountylibrary.org/event/storytime-98/
LOCATION:Crane Library\, 201 Main Street\, Crane\, MO\, 65633\, United States
CATEGORIES:Crane Events
END:VEVENT
BEGIN:VEVENT
DTSTART;TZID=America/Chicago:20240522T130000
DTEND;TZID=America/Chicago:20240522T133000
DTSTAMP:20260424T163611
CREATED:20240319T175852Z
LAST-MODIFIED:20240319T175852Z
UID:9677-1716382800-1716384600@www.stonecountylibrary.org
SUMMARY:Wednesday Walk in the Park
DESCRIPTION:Ages: birth+
URL:https://www.stonecountylibrary.org/event/wednesday-walk-in-the-park-25/
LOCATION:Crane Library\, 201 Main Street\, Crane\, MO\, 65633\, United States
CATEGORIES:Crane Events
END:VEVENT
BEGIN:VEVENT
DTSTART;TZID=America/Chicago:20240522T133000
DTEND;TZID=America/Chicago:20240522T140000
DTSTAMP:20260424T163611
CREATED:20240319T180055Z
LAST-MODIFIED:20240319T180055Z
UID:9685-1716384600-1716386400@www.stonecountylibrary.org
SUMMARY:Wednesday Workouts
DESCRIPTION:Ages: birth+
URL:https://www.stonecountylibrary.org/event/wednesday-workouts-28/
LOCATION:Crane Library\, 201 Main Street\, Crane\, MO\, 65633\, United States
CATEGORIES:Crane Events
END:VEVENT
BEGIN:VEVENT
DTSTART;TZID=America/Chicago:20240523T140000
DTEND;TZID=America/Chicago:20240523T150000
DTSTAMP:20260424T163611
CREATED:20240319T182338Z
LAST-MODIFIED:20240319T182338Z
UID:9710-1716472800-1716476400@www.stonecountylibrary.org
SUMMARY:Book Club
DESCRIPTION:Ages: 18+
URL:https://www.stonecountylibrary.org/event/book-club-26/
LOCATION:Crane Library\, 201 Main Street\, Crane\, MO\, 65633\, United States
CATEGORIES:Crane Events
END:VEVENT
BEGIN:VEVENT
DTSTART;TZID=America/Chicago:20240524T100000
DTEND;TZID=America/Chicago:20240524T110000
DTSTAMP:20260424T163611
CREATED:20240319T180601Z
LAST-MODIFIED:20240319T180601Z
UID:9696-1716544800-1716548400@www.stonecountylibrary.org
SUMMARY:REC Squad
DESCRIPTION:Activities for adults with differing abilities in union with SCDDB \nBoard Games! \nAges 18+
URL:https://www.stonecountylibrary.org/event/rec-squad-66/
LOCATION:Crane Library\, 201 Main Street\, Crane\, MO\, 65633\, United States
CATEGORIES:Crane Events
END:VEVENT
BEGIN:VEVENT
DTSTART;TZID=America/Chicago:20240528T100000
DTEND;TZID=America/Chicago:20240528T110000
DTSTAMP:20260424T163611
CREATED:20240319T175621Z
LAST-MODIFIED:20240319T175621Z
UID:9671-1716890400-1716894000@www.stonecountylibrary.org
SUMMARY:Storytime
DESCRIPTION:Ages: birth-6 years
URL:https://www.stonecountylibrary.org/event/storytime-99/
LOCATION:Crane Library\, 201 Main Street\, Crane\, MO\, 65633\, United States
CATEGORIES:Crane Events
END:VEVENT
BEGIN:VEVENT
DTSTART;TZID=America/Chicago:20240529T130000
DTEND;TZID=America/Chicago:20240529T133000
DTSTAMP:20260424T163611
CREATED:20240319T175920Z
LAST-MODIFIED:20240319T175920Z
UID:9679-1716987600-1716989400@www.stonecountylibrary.org
SUMMARY:Wednesday Walk in the Park
DESCRIPTION:Ages: birth+
URL:https://www.stonecountylibrary.org/event/wednesday-walk-in-the-park-26/
LOCATION:Crane Library\, 201 Main Street\, Crane\, MO\, 65633\, United States
CATEGORIES:Crane Events
END:VEVENT
BEGIN:VEVENT
DTSTART;TZID=America/Chicago:20240529T133000
DTEND;TZID=America/Chicago:20240529T140000
DTSTAMP:20260424T163611
CREATED:20240319T180120Z
LAST-MODIFIED:20240319T180120Z
UID:9687-1716989400-1716991200@www.stonecountylibrary.org
SUMMARY:Wednesday Workouts
DESCRIPTION:Ages: birth+
URL:https://www.stonecountylibrary.org/event/wednesday-workouts-29/
LOCATION:Crane Library\, 201 Main Street\, Crane\, MO\, 65633\, United States
CATEGORIES:Crane Events
END:VEVENT
BEGIN:VEVENT
DTSTART;TZID=America/Chicago:20240530T140000
DTEND;TZID=America/Chicago:20240530T150000
DTSTAMP:20260424T163611
CREATED:20240319T182420Z
LAST-MODIFIED:20240319T182420Z
UID:9712-1717077600-1717081200@www.stonecountylibrary.org
SUMMARY:Afternoon Art
DESCRIPTION:Ages: 18+
URL:https://www.stonecountylibrary.org/event/afternoon-art-3/
LOCATION:Crane Library\, 201 Main Street\, Crane\, MO\, 65633\, United States
CATEGORIES:Crane Events
END:VEVENT
BEGIN:VEVENT
DTSTART;TZID=America/Chicago:20240531T100000
DTEND;TZID=America/Chicago:20240531T110000
DTSTAMP:20260424T163611
CREATED:20240319T180706Z
LAST-MODIFIED:20240319T180706Z
UID:9698-1717149600-1717153200@www.stonecountylibrary.org
SUMMARY:REC Squad
DESCRIPTION:Activities for adults with differing abilities in union with SCDDB \nApple “Donuts”! \nAges 18+
URL:https://www.stonecountylibrary.org/event/rec-squad-67/
LOCATION:Crane Library\, 201 Main Street\, Crane\, MO\, 65633\, United States
CATEGORIES:Crane Events
END:VEVENT
END:VCALENDAR