BEGIN:VCALENDAR
VERSION:2.0
PRODID:-//Stone County Library - ECPv6.15.18//NONSGML v1.0//EN
CALSCALE:GREGORIAN
METHOD:PUBLISH
X-ORIGINAL-URL:https://www.stonecountylibrary.org
X-WR-CALDESC:Events for Stone County Library
REFRESH-INTERVAL;VALUE=DURATION:PT1H
X-Robots-Tag:noindex
X-PUBLISHED-TTL:PT1H
BEGIN:VTIMEZONE
TZID:America/Chicago
BEGIN:DAYLIGHT
TZOFFSETFROM:-0600
TZOFFSETTO:-0500
TZNAME:CDT
DTSTART:20230312T080000
END:DAYLIGHT
BEGIN:STANDARD
TZOFFSETFROM:-0500
TZOFFSETTO:-0600
TZNAME:CST
DTSTART:20231105T070000
END:STANDARD
BEGIN:DAYLIGHT
TZOFFSETFROM:-0600
TZOFFSETTO:-0500
TZNAME:CDT
DTSTART:20240310T080000
END:DAYLIGHT
BEGIN:STANDARD
TZOFFSETFROM:-0500
TZOFFSETTO:-0600
TZNAME:CST
DTSTART:20241103T070000
END:STANDARD
BEGIN:DAYLIGHT
TZOFFSETFROM:-0600
TZOFFSETTO:-0500
TZNAME:CDT
DTSTART:20250309T080000
END:DAYLIGHT
BEGIN:STANDARD
TZOFFSETFROM:-0500
TZOFFSETTO:-0600
TZNAME:CST
DTSTART:20251102T070000
END:STANDARD
END:VTIMEZONE
BEGIN:VEVENT
DTSTART;TZID=America/Chicago:20240603T110000
DTEND;TZID=America/Chicago:20240603T130000
DTSTAMP:20260424T151917
CREATED:20240506T184453Z
LAST-MODIFIED:20240506T184849Z
UID:9900-1717412400-1717419600@www.stonecountylibrary.org
SUMMARY:Movie Mondays @ 11
DESCRIPTION:Tarzan (G) \nAges: 6-12 yrs old \n(For the Month of June Only)
URL:https://www.stonecountylibrary.org/event/movie-mondays-11/
LOCATION:Crane Library\, 201 Main Street\, Crane\, MO\, 65633\, United States
CATEGORIES:Crane Events
END:VEVENT
BEGIN:VEVENT
DTSTART;TZID=America/Chicago:20240603T140000
DTEND;TZID=America/Chicago:20240603T150000
DTSTAMP:20260424T151917
CREATED:20240506T184938Z
LAST-MODIFIED:20240506T184938Z
UID:9909-1717423200-1717426800@www.stonecountylibrary.org
SUMMARY:Teen Time
DESCRIPTION:Ages: 10-18 yrs
URL:https://www.stonecountylibrary.org/event/teen-time/
LOCATION:Crane Library\, 201 Main Street\, Crane\, MO\, 65633\, United States
CATEGORIES:Crane Events
END:VEVENT
BEGIN:VEVENT
DTSTART;TZID=America/Chicago:20240604T100000
DTEND;TZID=America/Chicago:20240604T110000
DTSTAMP:20260424T151917
CREATED:20240506T171303Z
LAST-MODIFIED:20240506T171303Z
UID:9817-1717495200-1717498800@www.stonecountylibrary.org
SUMMARY:Storytime
DESCRIPTION:Ages: birth-6
URL:https://www.stonecountylibrary.org/event/storytime-105/
LOCATION:Crane Library\, 201 Main Street\, Crane\, MO\, 65633\, United States
CATEGORIES:Crane Events
END:VEVENT
BEGIN:VEVENT
DTSTART;TZID=America/Chicago:20240605T130000
DTEND;TZID=America/Chicago:20240605T133000
DTSTAMP:20260424T151917
CREATED:20240506T182550Z
LAST-MODIFIED:20240506T182550Z
UID:9869-1717592400-1717594200@www.stonecountylibrary.org
SUMMARY:Wednesday Walk in the Park
DESCRIPTION:Ages: 18+
URL:https://www.stonecountylibrary.org/event/wednesday-walk-in-the-park-27/
LOCATION:Crane Library\, 201 Main Street\, Crane\, MO\, 65633\, United States
CATEGORIES:Crane Events
END:VEVENT
BEGIN:VEVENT
DTSTART;TZID=America/Chicago:20240605T133000
DTEND;TZID=America/Chicago:20240605T140000
DTSTAMP:20260424T151917
CREATED:20240506T183619Z
LAST-MODIFIED:20240506T183619Z
UID:9885-1717594200-1717596000@www.stonecountylibrary.org
SUMMARY:Wednesday Workouts
DESCRIPTION:Ages: birth+
URL:https://www.stonecountylibrary.org/event/wednesday-workouts-34/
LOCATION:Crane Library\, 201 Main Street\, Crane\, MO\, 65633\, United States
CATEGORIES:Crane Events
END:VEVENT
BEGIN:VEVENT
DTSTART;TZID=America/Chicago:20240606T100000
DTEND;TZID=America/Chicago:20240606T110000
DTSTAMP:20260424T151917
CREATED:20240506T184045Z
LAST-MODIFIED:20240506T184045Z
UID:9896-1717668000-1717671600@www.stonecountylibrary.org
SUMMARY:BINGO
DESCRIPTION:Ages: birth+
URL:https://www.stonecountylibrary.org/event/bingo-55/
LOCATION:Crane Library\, 201 Main Street\, Crane\, MO\, 65633\, United States
CATEGORIES:Crane Events
END:VEVENT
BEGIN:VEVENT
DTSTART;TZID=America/Chicago:20240606T160000
DTEND;TZID=America/Chicago:20240606T170000
DTSTAMP:20260424T151917
CREATED:20240506T184128Z
LAST-MODIFIED:20240506T184128Z
UID:9898-1717689600-1717693200@www.stonecountylibrary.org
SUMMARY:BINGO
DESCRIPTION:Ages: birth+
URL:https://www.stonecountylibrary.org/event/bingo-56/
LOCATION:Crane Library\, 201 Main Street\, Crane\, MO\, 65633\, United States
CATEGORIES:Crane Events
END:VEVENT
BEGIN:VEVENT
DTSTART;TZID=America/Chicago:20240607T100000
DTEND;TZID=America/Chicago:20240607T110000
DTSTAMP:20260424T151917
CREATED:20240506T183837Z
LAST-MODIFIED:20240506T183837Z
UID:9888-1717754400-1717758000@www.stonecountylibrary.org
SUMMARY:REC Squad
DESCRIPTION:Activities for adults with differing abilities in union with SCDDB \n  \nAges 18+
URL:https://www.stonecountylibrary.org/event/rec-squad-84/
LOCATION:Crane Library\, 201 Main Street\, Crane\, MO\, 65633\, United States
CATEGORIES:Crane Events
END:VEVENT
BEGIN:VEVENT
DTSTART;TZID=America/Chicago:20240610T110000
DTEND;TZID=America/Chicago:20240610T130000
DTSTAMP:20260424T151917
CREATED:20240506T184534Z
LAST-MODIFIED:20240506T184829Z
UID:9902-1718017200-1718024400@www.stonecountylibrary.org
SUMMARY:Movie Mondays @ 11
DESCRIPTION:Nim’s Island \nAges: 6-12 yrs old \n(For the Month of June Only)
URL:https://www.stonecountylibrary.org/event/movie-mondays-11-2/
LOCATION:Crane Library\, 201 Main Street\, Crane\, MO\, 65633\, United States
CATEGORIES:Crane Events
END:VEVENT
BEGIN:VEVENT
DTSTART;TZID=America/Chicago:20240610T140000
DTEND;TZID=America/Chicago:20240610T150000
DTSTAMP:20260424T151917
CREATED:20240506T185004Z
LAST-MODIFIED:20240506T185004Z
UID:9911-1718028000-1718031600@www.stonecountylibrary.org
SUMMARY:Teen Time
DESCRIPTION:Ages: 10-18 yrs
URL:https://www.stonecountylibrary.org/event/teen-time-2/
LOCATION:Crane Library\, 201 Main Street\, Crane\, MO\, 65633\, United States
CATEGORIES:Crane Events
END:VEVENT
BEGIN:VEVENT
DTSTART;TZID=America/Chicago:20240611T100000
DTEND;TZID=America/Chicago:20240611T110000
DTSTAMP:20260424T151917
CREATED:20240506T171327Z
LAST-MODIFIED:20240506T171327Z
UID:9819-1718100000-1718103600@www.stonecountylibrary.org
SUMMARY:Storytime
DESCRIPTION:Ages: birth-6
URL:https://www.stonecountylibrary.org/event/storytime-106/
LOCATION:Crane Library\, 201 Main Street\, Crane\, MO\, 65633\, United States
CATEGORIES:Crane Events
END:VEVENT
BEGIN:VEVENT
DTSTART;TZID=America/Chicago:20240612T130000
DTEND;TZID=America/Chicago:20240612T133000
DTSTAMP:20260424T151917
CREATED:20240506T182629Z
LAST-MODIFIED:20240506T183245Z
UID:9871-1718197200-1718199000@www.stonecountylibrary.org
SUMMARY:Wednesday Walk in the Park
DESCRIPTION:Ages: birth+
URL:https://www.stonecountylibrary.org/event/wednesday-walk-in-the-park-28/
LOCATION:Crane Library\, 201 Main Street\, Crane\, MO\, 65633\, United States
CATEGORIES:Crane Events
END:VEVENT
BEGIN:VEVENT
DTSTART;TZID=America/Chicago:20240612T133000
DTEND;TZID=America/Chicago:20240612T140000
DTSTAMP:20260424T151917
CREATED:20240506T182905Z
LAST-MODIFIED:20240506T183716Z
UID:9877-1718199000-1718200800@www.stonecountylibrary.org
SUMMARY:Wednesday Workouts
DESCRIPTION:Ages: birth+
URL:https://www.stonecountylibrary.org/event/wednesday-workouts-30/
LOCATION:Crane Library\, 201 Main Street\, Crane\, MO\, 65633\, United States
CATEGORIES:Crane Events
END:VEVENT
BEGIN:VEVENT
DTSTART;TZID=America/Chicago:20240613T140000
DTEND;TZID=America/Chicago:20240613T150000
DTSTAMP:20260424T151917
CREATED:20240506T185154Z
LAST-MODIFIED:20240506T185154Z
UID:9917-1718287200-1718290800@www.stonecountylibrary.org
SUMMARY:Dominoes
DESCRIPTION:Ages: birth +
URL:https://www.stonecountylibrary.org/event/dominoes-7/
LOCATION:Crane Library\, 201 Main Street\, Crane\, MO\, 65633\, United States
CATEGORIES:Crane Events
END:VEVENT
BEGIN:VEVENT
DTSTART;TZID=America/Chicago:20240614T100000
DTEND;TZID=America/Chicago:20240614T110000
DTSTAMP:20260424T151917
CREATED:20240506T183859Z
LAST-MODIFIED:20240506T183859Z
UID:9890-1718359200-1718362800@www.stonecountylibrary.org
SUMMARY:REC Squad
DESCRIPTION:Activities for adults with differing abilities in union with SCDDB \n  \nAges 18+
URL:https://www.stonecountylibrary.org/event/rec-squad-85/
LOCATION:Crane Library\, 201 Main Street\, Crane\, MO\, 65633\, United States
CATEGORIES:Crane Events
END:VEVENT
BEGIN:VEVENT
DTSTART;TZID=America/Chicago:20240617T110000
DTEND;TZID=America/Chicago:20240617T130000
DTSTAMP:20260424T151917
CREATED:20240506T184611Z
LAST-MODIFIED:20240506T184802Z
UID:9904-1718622000-1718629200@www.stonecountylibrary.org
SUMMARY:Movie Mondays @ 11
DESCRIPTION:The Jungle Book (G) \nAges: 6-12 yrs old \n(For the Month of June Only)
URL:https://www.stonecountylibrary.org/event/movie-mondays-11-3/
LOCATION:Crane Library\, 201 Main Street\, Crane\, MO\, 65633\, United States
CATEGORIES:Crane Events
END:VEVENT
BEGIN:VEVENT
DTSTART;TZID=America/Chicago:20240617T140000
DTEND;TZID=America/Chicago:20240617T150000
DTSTAMP:20260424T151917
CREATED:20240506T185032Z
LAST-MODIFIED:20240506T185032Z
UID:9913-1718632800-1718636400@www.stonecountylibrary.org
SUMMARY:Teen Time
DESCRIPTION:Ages: 10-18 yrs
URL:https://www.stonecountylibrary.org/event/teen-time-3/
LOCATION:Crane Library\, 201 Main Street\, Crane\, MO\, 65633\, United States
CATEGORIES:Crane Events
END:VEVENT
BEGIN:VEVENT
DTSTART;TZID=America/Chicago:20240618T100000
DTEND;TZID=America/Chicago:20240618T110000
DTSTAMP:20260424T151917
CREATED:20240506T171354Z
LAST-MODIFIED:20240506T171354Z
UID:9821-1718704800-1718708400@www.stonecountylibrary.org
SUMMARY:Storytime
DESCRIPTION:Ages: birth-6
URL:https://www.stonecountylibrary.org/event/storytime-107/
LOCATION:Crane Library\, 201 Main Street\, Crane\, MO\, 65633\, United States
CATEGORIES:Crane Events
END:VEVENT
BEGIN:VEVENT
DTSTART;TZID=America/Chicago:20240619T130000
DTEND;TZID=America/Chicago:20240619T133000
DTSTAMP:20260424T151917
CREATED:20240506T182701Z
LAST-MODIFIED:20240506T183509Z
UID:9873-1718802000-1718803800@www.stonecountylibrary.org
SUMMARY:Wednesday Walk in the Park
DESCRIPTION:Ages: birth+
URL:https://www.stonecountylibrary.org/event/wednesday-walk-in-the-park-29/
LOCATION:Crane Library\, 201 Main Street\, Crane\, MO\, 65633\, United States
CATEGORIES:Crane Events
END:VEVENT
BEGIN:VEVENT
DTSTART;TZID=America/Chicago:20240619T133000
DTEND;TZID=America/Chicago:20240619T140000
DTSTAMP:20260424T151917
CREATED:20240506T183005Z
LAST-MODIFIED:20240506T183213Z
UID:9881-1718803800-1718805600@www.stonecountylibrary.org
SUMMARY:Wednesday Workouts
DESCRIPTION:Ages: birth+
URL:https://www.stonecountylibrary.org/event/wednesday-workouts-32/
LOCATION:Crane Library\, 201 Main Street\, Crane\, MO\, 65633\, United States
CATEGORIES:Crane Events
END:VEVENT
BEGIN:VEVENT
DTSTART;TZID=America/Chicago:20240620T100000
DTEND;TZID=America/Chicago:20240620T110000
DTSTAMP:20260424T151917
CREATED:20240506T185326Z
LAST-MODIFIED:20240515T152016Z
UID:9919-1718877600-1718881200@www.stonecountylibrary.org
SUMMARY:Book Club
DESCRIPTION:Born a Crime by Trevor Noah \nMeet at the Wooden Spoon \nAges: 18+
URL:https://www.stonecountylibrary.org/event/book-club-29/
LOCATION:Crane Library\, 201 Main Street\, Crane\, MO\, 65633\, United States
CATEGORIES:Crane Events
END:VEVENT
BEGIN:VEVENT
DTSTART;TZID=America/Chicago:20240621T100000
DTEND;TZID=America/Chicago:20240621T110000
DTSTAMP:20260424T151917
CREATED:20240506T183927Z
LAST-MODIFIED:20240506T183927Z
UID:9892-1718964000-1718967600@www.stonecountylibrary.org
SUMMARY:REC Squad
DESCRIPTION:Activities for adults with differing abilities in union with SCDDB \n  \nAges 18+
URL:https://www.stonecountylibrary.org/event/rec-squad-86/
LOCATION:Crane Library\, 201 Main Street\, Crane\, MO\, 65633\, United States
CATEGORIES:Crane Events
END:VEVENT
BEGIN:VEVENT
DTSTART;TZID=America/Chicago:20240624T140000
DTEND;TZID=America/Chicago:20240624T150000
DTSTAMP:20260424T151917
CREATED:20240506T185056Z
LAST-MODIFIED:20240506T185056Z
UID:9915-1719237600-1719241200@www.stonecountylibrary.org
SUMMARY:Teen Time
DESCRIPTION:Ages: 10-18 yrs
URL:https://www.stonecountylibrary.org/event/teen-time-4/
LOCATION:Crane Library\, 201 Main Street\, Crane\, MO\, 65633\, United States
CATEGORIES:Crane Events
END:VEVENT
BEGIN:VEVENT
DTSTART;TZID=America/Chicago:20240625T100000
DTEND;TZID=America/Chicago:20240625T110000
DTSTAMP:20260424T151917
CREATED:20240506T171416Z
LAST-MODIFIED:20240506T171416Z
UID:9823-1719309600-1719313200@www.stonecountylibrary.org
SUMMARY:Storytime
DESCRIPTION:Ages: birth-6
URL:https://www.stonecountylibrary.org/event/storytime-108/
LOCATION:Crane Library\, 201 Main Street\, Crane\, MO\, 65633\, United States
CATEGORIES:Crane Events
END:VEVENT
BEGIN:VEVENT
DTSTART;TZID=America/Chicago:20240625T110000
DTEND;TZID=America/Chicago:20240625T130000
DTSTAMP:20260424T151917
CREATED:20240506T184708Z
LAST-MODIFIED:20240506T184732Z
UID:9906-1719313200-1719320400@www.stonecountylibrary.org
SUMMARY:Movie Mondays @ 11
DESCRIPTION:UP! (PG) \nAges: 6-12 yrs old \n(For the Month of June Only)
URL:https://www.stonecountylibrary.org/event/movie-mondays-11-4/
LOCATION:Crane Library\, 201 Main Street\, Crane\, MO\, 65633\, United States
CATEGORIES:Crane Events
END:VEVENT
BEGIN:VEVENT
DTSTART;TZID=America/Chicago:20240626T130000
DTEND;TZID=America/Chicago:20240626T133000
DTSTAMP:20260424T151917
CREATED:20240506T182739Z
LAST-MODIFIED:20240506T183529Z
UID:9875-1719406800-1719408600@www.stonecountylibrary.org
SUMMARY:Wednesday Walk in the Park
DESCRIPTION:Ages: birth+
URL:https://www.stonecountylibrary.org/event/wednesday-walk-in-the-park-30/
LOCATION:Crane Library\, 201 Main Street\, Crane\, MO\, 65633\, United States
CATEGORIES:Crane Events
END:VEVENT
BEGIN:VEVENT
DTSTART;TZID=America/Chicago:20240626T133000
DTEND;TZID=America/Chicago:20240626T140000
DTSTAMP:20260424T151917
CREATED:20240506T183057Z
LAST-MODIFIED:20240506T183149Z
UID:9883-1719408600-1719410400@www.stonecountylibrary.org
SUMMARY:Wednesday Workouts
DESCRIPTION:Ages: birth+
URL:https://www.stonecountylibrary.org/event/wednesday-workouts-33/
LOCATION:Crane Library\, 201 Main Street\, Crane\, MO\, 65633\, United States
CATEGORIES:Crane Events
END:VEVENT
BEGIN:VEVENT
DTSTART;TZID=America/Chicago:20240627T140000
DTEND;TZID=America/Chicago:20240627T150000
DTSTAMP:20260424T151917
CREATED:20240506T185416Z
LAST-MODIFIED:20240506T185416Z
UID:9921-1719496800-1719500400@www.stonecountylibrary.org
SUMMARY:The Community Table
DESCRIPTION:Red\, White\, and Blue foods \nAges: birth+
URL:https://www.stonecountylibrary.org/event/the-community-table-9/
LOCATION:Crane Library\, 201 Main Street\, Crane\, MO\, 65633\, United States
CATEGORIES:Crane Events
END:VEVENT
BEGIN:VEVENT
DTSTART;TZID=America/Chicago:20240628T100000
DTEND;TZID=America/Chicago:20240628T110000
DTSTAMP:20260424T151917
CREATED:20240506T183953Z
LAST-MODIFIED:20240506T183953Z
UID:9894-1719568800-1719572400@www.stonecountylibrary.org
SUMMARY:REC Squad
DESCRIPTION:Activities for adults with differing abilities in union with SCDDB \n  \nAges 18+
URL:https://www.stonecountylibrary.org/event/rec-squad-87/
LOCATION:Crane Library\, 201 Main Street\, Crane\, MO\, 65633\, United States
CATEGORIES:Crane Events
END:VEVENT
END:VCALENDAR