BEGIN:VCALENDAR
VERSION:2.0
PRODID:-//Stone County Library - ECPv6.15.18//NONSGML v1.0//EN
CALSCALE:GREGORIAN
METHOD:PUBLISH
X-ORIGINAL-URL:https://www.stonecountylibrary.org
X-WR-CALDESC:Events for Stone County Library
REFRESH-INTERVAL;VALUE=DURATION:PT1H
X-Robots-Tag:noindex
X-PUBLISHED-TTL:PT1H
BEGIN:VTIMEZONE
TZID:America/Chicago
BEGIN:DAYLIGHT
TZOFFSETFROM:-0600
TZOFFSETTO:-0500
TZNAME:CDT
DTSTART:20240310T080000
END:DAYLIGHT
BEGIN:STANDARD
TZOFFSETFROM:-0500
TZOFFSETTO:-0600
TZNAME:CST
DTSTART:20241103T070000
END:STANDARD
BEGIN:DAYLIGHT
TZOFFSETFROM:-0600
TZOFFSETTO:-0500
TZNAME:CDT
DTSTART:20250309T080000
END:DAYLIGHT
BEGIN:STANDARD
TZOFFSETFROM:-0500
TZOFFSETTO:-0600
TZNAME:CST
DTSTART:20251102T070000
END:STANDARD
BEGIN:DAYLIGHT
TZOFFSETFROM:-0600
TZOFFSETTO:-0500
TZNAME:CDT
DTSTART:20260308T080000
END:DAYLIGHT
BEGIN:STANDARD
TZOFFSETFROM:-0500
TZOFFSETTO:-0600
TZNAME:CST
DTSTART:20261101T070000
END:STANDARD
END:VTIMEZONE
BEGIN:VEVENT
DTSTART;TZID=America/Chicago:20250701T100000
DTEND;TZID=America/Chicago:20250701T110000
DTSTAMP:20260423T100222
CREATED:20250416T212739Z
LAST-MODIFIED:20250416T212739Z
UID:11854-1751364000-1751367600@www.stonecountylibrary.org
SUMMARY:Storytime
DESCRIPTION:Ages: birth-6
URL:https://www.stonecountylibrary.org/event/storytime-215/
LOCATION:Crane Library\, 201 Main Street\, Crane\, MO\, 65633\, United States
CATEGORIES:Crane Events
END:VEVENT
BEGIN:VEVENT
DTSTART;TZID=America/Chicago:20250702T130000
DTEND;TZID=America/Chicago:20250702T133000
DTSTAMP:20260423T100222
CREATED:20250418T195909Z
LAST-MODIFIED:20250611T163020Z
UID:12021-1751461200-1751463000@www.stonecountylibrary.org
SUMMARY:Wednesday Walk in the Park
DESCRIPTION:Ages: 18+
URL:https://www.stonecountylibrary.org/event/wednesday-walk-in-the-park-76/
LOCATION:Crane Library\, 201 Main Street\, Crane\, MO\, 65633\, United States
CATEGORIES:Crane Events
END:VEVENT
BEGIN:VEVENT
DTSTART;TZID=America/Chicago:20250702T133000
DTEND;TZID=America/Chicago:20250702T143000
DTSTAMP:20260423T100222
CREATED:20250418T195651Z
LAST-MODIFIED:20250611T163159Z
UID:12011-1751463000-1751466600@www.stonecountylibrary.org
SUMMARY:Wednesday Workouts
DESCRIPTION:Ages: 18+
URL:https://www.stonecountylibrary.org/event/wednesday-workouts-68/
LOCATION:Crane Library\, 201 Main Street\, Crane\, MO\, 65633\, United States
CATEGORIES:Crane Events
END:VEVENT
BEGIN:VEVENT
DTSTART;TZID=America/Chicago:20250703T100000
DTEND;TZID=America/Chicago:20250703T110000
DTSTAMP:20260423T100222
CREATED:20250417T145923Z
LAST-MODIFIED:20250417T145923Z
UID:11884-1751536800-1751540400@www.stonecountylibrary.org
SUMMARY:BINGO
DESCRIPTION:Free to play! Prizes to win! \nAges: 6+
URL:https://www.stonecountylibrary.org/event/bingo-70/
LOCATION:Crane Library\, 201 Main Street\, Crane\, MO\, 65633\, United States
CATEGORIES:Crane Events
END:VEVENT
BEGIN:VEVENT
DTSTART;TZID=America/Chicago:20250703T160000
DTEND;TZID=America/Chicago:20250703T170000
DTSTAMP:20260423T100222
CREATED:20250417T150203Z
LAST-MODIFIED:20250417T150203Z
UID:11887-1751558400-1751562000@www.stonecountylibrary.org
SUMMARY:BINGO
DESCRIPTION:Free to play! Prizes to win! \nAges: 6+
URL:https://www.stonecountylibrary.org/event/bingo-73/
LOCATION:Crane Library\, 201 Main Street\, Crane\, MO\, 65633\, United States
CATEGORIES:Crane Events
END:VEVENT
BEGIN:VEVENT
DTSTART;TZID=America/Chicago:20250707T110000
DTEND;TZID=America/Chicago:20250707T120000
DTSTAMP:20260423T100222
CREATED:20250416T211714Z
LAST-MODIFIED:20250416T211714Z
UID:11803-1751886000-1751889600@www.stonecountylibrary.org
SUMMARY:S.T.A.R.
DESCRIPTION:Ages: 6-12 years
URL:https://www.stonecountylibrary.org/event/s-t-a-r-57/
LOCATION:Crane Library\, 201 Main Street\, Crane\, MO\, 65633\, United States
CATEGORIES:Crane Events
END:VEVENT
BEGIN:VEVENT
DTSTART;TZID=America/Chicago:20250707T140000
DTEND;TZID=America/Chicago:20250707T150000
DTSTAMP:20260423T100222
CREATED:20250416T212310Z
LAST-MODIFIED:20250416T212310Z
UID:11830-1751896800-1751900400@www.stonecountylibrary.org
SUMMARY:Teen Time
DESCRIPTION:Ages: 10-18 years
URL:https://www.stonecountylibrary.org/event/teen-time-51/
LOCATION:Crane Library\, 201 Main Street\, Crane\, MO\, 65633\, United States
CATEGORIES:Crane Events
END:VEVENT
BEGIN:VEVENT
DTSTART;TZID=America/Chicago:20250708T100000
DTEND;TZID=America/Chicago:20250708T110000
DTSTAMP:20260423T100222
CREATED:20250416T212808Z
LAST-MODIFIED:20250416T212808Z
UID:11857-1751968800-1751972400@www.stonecountylibrary.org
SUMMARY:Storytime
DESCRIPTION:Ages: birth-6
URL:https://www.stonecountylibrary.org/event/storytime-216/
LOCATION:Crane Library\, 201 Main Street\, Crane\, MO\, 65633\, United States
CATEGORIES:Crane Events
END:VEVENT
BEGIN:VEVENT
DTSTART;TZID=America/Chicago:20250708T140000
DTEND;TZID=America/Chicago:20250708T150000
DTSTAMP:20260423T100222
CREATED:20250605T171052Z
LAST-MODIFIED:20250605T171052Z
UID:12122-1751983200-1751986800@www.stonecountylibrary.org
SUMMARY:Heathy Eating on a Budget: Meal Planning
DESCRIPTION:Ages: 18+
URL:https://www.stonecountylibrary.org/event/heathy-eating-on-a-budget-meal-planning/
LOCATION:Crane Library\, 201 Main Street\, Crane\, MO\, 65633\, United States
CATEGORIES:Crane Events
END:VEVENT
BEGIN:VEVENT
DTSTART;TZID=America/Chicago:20250709T130000
DTEND;TZID=America/Chicago:20250709T133000
DTSTAMP:20260423T100222
CREATED:20250418T195937Z
LAST-MODIFIED:20250611T162956Z
UID:12023-1752066000-1752067800@www.stonecountylibrary.org
SUMMARY:Wednesday Walk in the Park
DESCRIPTION:Ages: 18+
URL:https://www.stonecountylibrary.org/event/wednesday-walk-in-the-park-77/
LOCATION:Crane Library\, 201 Main Street\, Crane\, MO\, 65633\, United States
CATEGORIES:Crane Events
END:VEVENT
BEGIN:VEVENT
DTSTART;TZID=America/Chicago:20250709T133000
DTEND;TZID=America/Chicago:20250709T143000
DTSTAMP:20260423T100222
CREATED:20250418T195715Z
LAST-MODIFIED:20250611T163136Z
UID:12013-1752067800-1752071400@www.stonecountylibrary.org
SUMMARY:Wednesday Workouts
DESCRIPTION:Ages: 18+
URL:https://www.stonecountylibrary.org/event/wednesday-workouts-69/
LOCATION:Crane Library\, 201 Main Street\, Crane\, MO\, 65633\, United States
CATEGORIES:Crane Events
END:VEVENT
BEGIN:VEVENT
DTSTART;TZID=America/Chicago:20250710T140000
DTEND;TZID=America/Chicago:20250710T150000
DTSTAMP:20260423T100222
CREATED:20250417T164711Z
LAST-MODIFIED:20250612T141641Z
UID:11900-1752156000-1752159600@www.stonecountylibrary.org
SUMMARY:You Choose Game Day
DESCRIPTION:Ages: 18+
URL:https://www.stonecountylibrary.org/event/dominoes-17/
LOCATION:Crane Library\, 201 Main Street\, Crane\, MO\, 65633\, United States
CATEGORIES:Crane Events
END:VEVENT
BEGIN:VEVENT
DTSTART;TZID=America/Chicago:20250711T103000
DTEND;TZID=America/Chicago:20250711T113000
DTSTAMP:20260423T100222
CREATED:20250418T173152Z
LAST-MODIFIED:20250418T173152Z
UID:11935-1752229800-1752233400@www.stonecountylibrary.org
SUMMARY:Activity Hour
DESCRIPTION:Movie \nAges: birth + \nParents must stay with their children under the age of 12.
URL:https://www.stonecountylibrary.org/event/activity-hour-46/
LOCATION:Crane Library\, 201 Main Street\, Crane\, MO\, 65633\, United States
CATEGORIES:Crane Events
END:VEVENT
BEGIN:VEVENT
DTSTART;TZID=America/Chicago:20250714T110000
DTEND;TZID=America/Chicago:20250714T120000
DTSTAMP:20260423T100222
CREATED:20250416T211746Z
LAST-MODIFIED:20250416T211746Z
UID:11806-1752490800-1752494400@www.stonecountylibrary.org
SUMMARY:S.T.A.R.
DESCRIPTION:Ages: 6-12 years
URL:https://www.stonecountylibrary.org/event/s-t-a-r-58/
LOCATION:Crane Library\, 201 Main Street\, Crane\, MO\, 65633\, United States
CATEGORIES:Crane Events
END:VEVENT
BEGIN:VEVENT
DTSTART;TZID=America/Chicago:20250714T110000
DTEND;TZID=America/Chicago:20250714T120000
DTSTAMP:20260423T100222
CREATED:20250714T204457Z
LAST-MODIFIED:20250714T204457Z
UID:12408-1752490800-1752494400@www.stonecountylibrary.org
SUMMARY:S.T.A.R.
DESCRIPTION:Ages: 6-12 years
URL:https://www.stonecountylibrary.org/event/s-t-a-r-66/
LOCATION:Crane Library\, 201 Main Street\, Crane\, MO\, 65633\, United States
CATEGORIES:Crane Events
END:VEVENT
BEGIN:VEVENT
DTSTART;TZID=America/Chicago:20250714T140000
DTEND;TZID=America/Chicago:20250714T150000
DTSTAMP:20260423T100222
CREATED:20250416T212336Z
LAST-MODIFIED:20250416T212336Z
UID:11833-1752501600-1752505200@www.stonecountylibrary.org
SUMMARY:Teen Time
DESCRIPTION:Ages: 10-18 years
URL:https://www.stonecountylibrary.org/event/teen-time-52/
LOCATION:Crane Library\, 201 Main Street\, Crane\, MO\, 65633\, United States
CATEGORIES:Crane Events
END:VEVENT
BEGIN:VEVENT
DTSTART;TZID=America/Chicago:20250715T100000
DTEND;TZID=America/Chicago:20250715T110000
DTSTAMP:20260423T100222
CREATED:20250416T212836Z
LAST-MODIFIED:20250416T212836Z
UID:11860-1752573600-1752577200@www.stonecountylibrary.org
SUMMARY:Storytime
DESCRIPTION:Ages: birth-6
URL:https://www.stonecountylibrary.org/event/storytime-217/
LOCATION:Crane Library\, 201 Main Street\, Crane\, MO\, 65633\, United States
CATEGORIES:Crane Events
END:VEVENT
BEGIN:VEVENT
DTSTART;TZID=America/Chicago:20250716T130000
DTEND;TZID=America/Chicago:20250716T133000
DTSTAMP:20260423T100222
CREATED:20250418T200005Z
LAST-MODIFIED:20250611T162930Z
UID:12025-1752670800-1752672600@www.stonecountylibrary.org
SUMMARY:Wednesday Walk in the Park
DESCRIPTION:Ages: 18+
URL:https://www.stonecountylibrary.org/event/wednesday-walk-in-the-park-78/
LOCATION:Crane Library\, 201 Main Street\, Crane\, MO\, 65633\, United States
CATEGORIES:Crane Events
END:VEVENT
BEGIN:VEVENT
DTSTART;TZID=America/Chicago:20250716T133000
DTEND;TZID=America/Chicago:20250716T143000
DTSTAMP:20260423T100222
CREATED:20250418T195743Z
LAST-MODIFIED:20250611T163122Z
UID:12015-1752672600-1752676200@www.stonecountylibrary.org
SUMMARY:Wednesday Workouts
DESCRIPTION:Ages: 18+
URL:https://www.stonecountylibrary.org/event/wednesday-workouts-70/
LOCATION:Crane Library\, 201 Main Street\, Crane\, MO\, 65633\, United States
CATEGORIES:Crane Events
END:VEVENT
BEGIN:VEVENT
DTSTART;TZID=America/Chicago:20250717T100000
DTEND;TZID=America/Chicago:20250717T110000
DTSTAMP:20260423T100222
CREATED:20250417T164909Z
LAST-MODIFIED:20250417T164909Z
UID:11906-1752746400-1752750000@www.stonecountylibrary.org
SUMMARY:Book Club
DESCRIPTION:Meet at the Wooden Spoon \nAges: 18+
URL:https://www.stonecountylibrary.org/event/book-club-51/
LOCATION:Crane Library\, 201 Main Street\, Crane\, MO\, 65633\, United States
CATEGORIES:Crane Events
END:VEVENT
BEGIN:VEVENT
DTSTART;TZID=America/Chicago:20250718T103000
DTEND;TZID=America/Chicago:20250718T113000
DTSTAMP:20260423T100222
CREATED:20250418T173237Z
LAST-MODIFIED:20250418T173237Z
UID:11937-1752834600-1752838200@www.stonecountylibrary.org
SUMMARY:Activity Hour
DESCRIPTION:Karaoke \nAges: birth + \nParents must stay with their children under the age of 12.
URL:https://www.stonecountylibrary.org/event/activity-hour-47/
LOCATION:Crane Library\, 201 Main Street\, Crane\, MO\, 65633\, United States
CATEGORIES:Crane Events
END:VEVENT
BEGIN:VEVENT
DTSTART;TZID=America/Chicago:20250721T110000
DTEND;TZID=America/Chicago:20250721T120000
DTSTAMP:20260423T100222
CREATED:20250416T211822Z
LAST-MODIFIED:20250416T211822Z
UID:11809-1753095600-1753099200@www.stonecountylibrary.org
SUMMARY:S.T.A.R.
DESCRIPTION:Ages: 6-12 years
URL:https://www.stonecountylibrary.org/event/s-t-a-r-59/
LOCATION:Crane Library\, 201 Main Street\, Crane\, MO\, 65633\, United States
CATEGORIES:Crane Events
END:VEVENT
BEGIN:VEVENT
DTSTART;TZID=America/Chicago:20250721T140000
DTEND;TZID=America/Chicago:20250721T150000
DTSTAMP:20260423T100222
CREATED:20250416T212407Z
LAST-MODIFIED:20250416T212407Z
UID:11836-1753106400-1753110000@www.stonecountylibrary.org
SUMMARY:Teen Time
DESCRIPTION:Ages: 10-18 years
URL:https://www.stonecountylibrary.org/event/teen-time-53/
LOCATION:Crane Library\, 201 Main Street\, Crane\, MO\, 65633\, United States
CATEGORIES:Crane Events
END:VEVENT
BEGIN:VEVENT
DTSTART;TZID=America/Chicago:20250722T100000
DTEND;TZID=America/Chicago:20250722T110000
DTSTAMP:20260423T100222
CREATED:20250416T212911Z
LAST-MODIFIED:20250416T212911Z
UID:11863-1753178400-1753182000@www.stonecountylibrary.org
SUMMARY:Storytime
DESCRIPTION:Ages: birth-6
URL:https://www.stonecountylibrary.org/event/storytime-218/
LOCATION:Crane Library\, 201 Main Street\, Crane\, MO\, 65633\, United States
CATEGORIES:Crane Events
END:VEVENT
BEGIN:VEVENT
DTSTART;TZID=America/Chicago:20250722T140000
DTEND;TZID=America/Chicago:20250722T150000
DTSTAMP:20260423T100222
CREATED:20250605T171152Z
LAST-MODIFIED:20250605T171152Z
UID:12124-1753192800-1753196400@www.stonecountylibrary.org
SUMMARY:Healthy Eating on a Budget: Stretch Your Dollars
DESCRIPTION:Ages: 18+
URL:https://www.stonecountylibrary.org/event/healthy-eating-on-a-budget-stretch-your-dollars/
LOCATION:Crane Library\, 201 Main Street\, Crane\, MO\, 65633\, United States
CATEGORIES:Crane Events
END:VEVENT
BEGIN:VEVENT
DTSTART;TZID=America/Chicago:20250723T130000
DTEND;TZID=America/Chicago:20250723T133000
DTSTAMP:20260423T100222
CREATED:20250418T200033Z
LAST-MODIFIED:20250611T162909Z
UID:12027-1753275600-1753277400@www.stonecountylibrary.org
SUMMARY:Wednesday Walk in the Park
DESCRIPTION:Ages: 18+
URL:https://www.stonecountylibrary.org/event/wednesday-walk-in-the-park-79/
LOCATION:Crane Library\, 201 Main Street\, Crane\, MO\, 65633\, United States
CATEGORIES:Crane Events
END:VEVENT
BEGIN:VEVENT
DTSTART;TZID=America/Chicago:20250723T133000
DTEND;TZID=America/Chicago:20250723T143000
DTSTAMP:20260423T100222
CREATED:20250418T195808Z
LAST-MODIFIED:20250611T163104Z
UID:12017-1753277400-1753281000@www.stonecountylibrary.org
SUMMARY:Wednesday Workouts
DESCRIPTION:Ages: 18+
URL:https://www.stonecountylibrary.org/event/wednesday-workouts-71/
LOCATION:Crane Library\, 201 Main Street\, Crane\, MO\, 65633\, United States
CATEGORIES:Crane Events
END:VEVENT
BEGIN:VEVENT
DTSTART;TZID=America/Chicago:20250724T120000
DTEND;TZID=America/Chicago:20250724T130000
DTSTAMP:20260423T100222
CREATED:20250605T171319Z
LAST-MODIFIED:20250609T204426Z
UID:12126-1753358400-1753362000@www.stonecountylibrary.org
SUMMARY:Community Table
DESCRIPTION:TBA \nAges: birth+
URL:https://www.stonecountylibrary.org/event/community-table-10/
LOCATION:Crane Library\, 201 Main Street\, Crane\, MO\, 65633\, United States
CATEGORIES:Crane Events
END:VEVENT
BEGIN:VEVENT
DTSTART;TZID=America/Chicago:20250725T103000
DTEND;TZID=America/Chicago:20250725T113000
DTSTAMP:20260423T100222
CREATED:20250418T173309Z
LAST-MODIFIED:20250418T173309Z
UID:11939-1753439400-1753443000@www.stonecountylibrary.org
SUMMARY:Activity Hour
DESCRIPTION:Craft \nAges: birth + \nParents must stay with their children under the age of 12.
URL:https://www.stonecountylibrary.org/event/activity-hour-48/
LOCATION:Crane Library\, 201 Main Street\, Crane\, MO\, 65633\, United States
CATEGORIES:Crane Events
END:VEVENT
BEGIN:VEVENT
DTSTART;TZID=America/Chicago:20250725T130000
DTEND;TZID=America/Chicago:20250725T140000
DTSTAMP:20260423T100222
CREATED:20250418T200328Z
LAST-MODIFIED:20250418T200328Z
UID:12031-1753448400-1753452000@www.stonecountylibrary.org
SUMMARY:10 Warning Signs of Alzheimer's
DESCRIPTION:Presented by Amber Allen of the MU Extension Office \nAges: 18+
URL:https://www.stonecountylibrary.org/event/10-warning-signs-of-alzheimers/
LOCATION:Crane Library\, 201 Main Street\, Crane\, MO\, 65633\, United States
CATEGORIES:Crane Events
END:VEVENT
END:VCALENDAR