BEGIN:VCALENDAR
VERSION:2.0
PRODID:-//Stone County Library - ECPv6.15.18//NONSGML v1.0//EN
CALSCALE:GREGORIAN
METHOD:PUBLISH
X-ORIGINAL-URL:https://www.stonecountylibrary.org
X-WR-CALDESC:Events for Stone County Library
REFRESH-INTERVAL;VALUE=DURATION:PT1H
X-Robots-Tag:noindex
X-PUBLISHED-TTL:PT1H
BEGIN:VTIMEZONE
TZID:America/Chicago
BEGIN:DAYLIGHT
TZOFFSETFROM:-0600
TZOFFSETTO:-0500
TZNAME:CDT
DTSTART:20240310T080000
END:DAYLIGHT
BEGIN:STANDARD
TZOFFSETFROM:-0500
TZOFFSETTO:-0600
TZNAME:CST
DTSTART:20241103T070000
END:STANDARD
BEGIN:DAYLIGHT
TZOFFSETFROM:-0600
TZOFFSETTO:-0500
TZNAME:CDT
DTSTART:20250309T080000
END:DAYLIGHT
BEGIN:STANDARD
TZOFFSETFROM:-0500
TZOFFSETTO:-0600
TZNAME:CST
DTSTART:20251102T070000
END:STANDARD
BEGIN:DAYLIGHT
TZOFFSETFROM:-0600
TZOFFSETTO:-0500
TZNAME:CDT
DTSTART:20260308T080000
END:DAYLIGHT
BEGIN:STANDARD
TZOFFSETFROM:-0500
TZOFFSETTO:-0600
TZNAME:CST
DTSTART:20261101T070000
END:STANDARD
END:VTIMEZONE
BEGIN:VEVENT
DTSTART;TZID=America/Chicago:20251103T110000
DTEND;TZID=America/Chicago:20251103T120000
DTSTAMP:20260422T212518
CREATED:20250926T160605Z
LAST-MODIFIED:20250926T160605Z
UID:12843-1762167600-1762171200@www.stonecountylibrary.org
SUMMARY:S.T.A.R.
DESCRIPTION:Ages: 6-12 years
URL:https://www.stonecountylibrary.org/event/s-t-a-r-73/
LOCATION:Crane Library\, 201 Main Street\, Crane\, MO\, 65633\, United States
CATEGORIES:Crane Events
END:VEVENT
BEGIN:VEVENT
DTSTART;TZID=America/Chicago:20251103T140000
DTEND;TZID=America/Chicago:20251103T150000
DTSTAMP:20260422T212518
CREATED:20250926T161139Z
LAST-MODIFIED:20250926T161139Z
UID:12859-1762178400-1762182000@www.stonecountylibrary.org
SUMMARY:Teen Time
DESCRIPTION:Ages: 10-18 years
URL:https://www.stonecountylibrary.org/event/teen-time-64/
LOCATION:Crane Library\, 201 Main Street\, Crane\, MO\, 65633\, United States
CATEGORIES:Crane Events
END:VEVENT
BEGIN:VEVENT
DTSTART;TZID=America/Chicago:20251104T100000
DTEND;TZID=America/Chicago:20251104T110000
DTSTAMP:20260422T212518
CREATED:20250926T140806Z
LAST-MODIFIED:20250926T140806Z
UID:12693-1762250400-1762254000@www.stonecountylibrary.org
SUMMARY:Storytime
DESCRIPTION:Ages: birth-6
URL:https://www.stonecountylibrary.org/event/storytime-242/
LOCATION:Crane Library\, 201 Main Street\, Crane\, MO\, 65633\, United States
CATEGORIES:Crane Events
END:VEVENT
BEGIN:VEVENT
DTSTART;TZID=America/Chicago:20251105T130000
DTEND;TZID=America/Chicago:20251105T133000
DTSTAMP:20260422T212518
CREATED:20250926T162612Z
LAST-MODIFIED:20250926T162612Z
UID:12883-1762347600-1762349400@www.stonecountylibrary.org
SUMMARY:Wednesday Walk in the Park
DESCRIPTION:Ages: 18+
URL:https://www.stonecountylibrary.org/event/wednesday-walk-in-the-park-94/
LOCATION:Crane Library\, 201 Main Street\, Crane\, MO\, 65633\, United States
CATEGORIES:Crane Events
END:VEVENT
BEGIN:VEVENT
DTSTART;TZID=America/Chicago:20251105T133000
DTEND;TZID=America/Chicago:20251105T143000
DTSTAMP:20260422T212518
CREATED:20250926T162939Z
LAST-MODIFIED:20250926T162953Z
UID:12895-1762349400-1762353000@www.stonecountylibrary.org
SUMMARY:Wednesday Workouts
DESCRIPTION:Ages: 18+
URL:https://www.stonecountylibrary.org/event/wednesday-workouts-86/
LOCATION:Crane Library\, 201 Main Street\, Crane\, MO\, 65633\, United States
CATEGORIES:Crane Events
END:VEVENT
BEGIN:VEVENT
DTSTART;TZID=America/Chicago:20251106T100000
DTEND;TZID=America/Chicago:20251106T110000
DTSTAMP:20260422T212518
CREATED:20250926T151346Z
LAST-MODIFIED:20250926T151346Z
UID:12762-1762423200-1762426800@www.stonecountylibrary.org
SUMMARY:BINGO
DESCRIPTION:Free to play! Prizes to win! \nAges: 6+
URL:https://www.stonecountylibrary.org/event/bingo-37/
LOCATION:Crane Library\, 201 Main Street\, Crane\, MO\, 65633\, United States
CATEGORIES:Crane Events
END:VEVENT
BEGIN:VEVENT
DTSTART;TZID=America/Chicago:20251106T160000
DTEND;TZID=America/Chicago:20251106T170000
DTSTAMP:20260422T212518
CREATED:20250926T151410Z
LAST-MODIFIED:20250926T151946Z
UID:12764-1762444800-1762448400@www.stonecountylibrary.org
SUMMARY:BINGO
DESCRIPTION:Free to play! Prizes to win! \nAges: 6+
URL:https://www.stonecountylibrary.org/event/bingo-75/
LOCATION:Crane Library\, 201 Main Street\, Crane\, MO\, 65633\, United States
CATEGORIES:Crane Events
END:VEVENT
BEGIN:VEVENT
DTSTART;TZID=America/Chicago:20251107T103000
DTEND;TZID=America/Chicago:20251107T113000
DTSTAMP:20260422T212518
CREATED:20250926T152741Z
LAST-MODIFIED:20250926T152741Z
UID:12779-1762511400-1762515000@www.stonecountylibrary.org
SUMMARY:Activity Hour
DESCRIPTION:Movie Time \nAges: birth + \nParents must stay with their children under the age of 12. \nActivities are subject to change.
URL:https://www.stonecountylibrary.org/event/activity-hour-106/
LOCATION:Crane Library\, 201 Main Street\, Crane\, MO\, 65633\, United States
CATEGORIES:Crane Events
END:VEVENT
BEGIN:VEVENT
DTSTART;TZID=America/Chicago:20251110T110000
DTEND;TZID=America/Chicago:20251110T120000
DTSTAMP:20260422T212518
CREATED:20250926T161825Z
LAST-MODIFIED:20250926T161825Z
UID:12875-1762772400-1762776000@www.stonecountylibrary.org
SUMMARY:S.T.A.R.
DESCRIPTION:Ages: 6-12 years
URL:https://www.stonecountylibrary.org/event/s-t-a-r-81/
LOCATION:Crane Library\, 201 Main Street\, Crane\, MO\, 65633\, United States
CATEGORIES:Crane Events
END:VEVENT
BEGIN:VEVENT
DTSTART;TZID=America/Chicago:20251110T140000
DTEND;TZID=America/Chicago:20251110T150000
DTSTAMP:20260422T212518
CREATED:20250926T162015Z
LAST-MODIFIED:20250926T162015Z
UID:12877-1762783200-1762786800@www.stonecountylibrary.org
SUMMARY:Teen Time
DESCRIPTION:Ages: 10-18 years
URL:https://www.stonecountylibrary.org/event/teen-time-74/
LOCATION:Crane Library\, 201 Main Street\, Crane\, MO\, 65633\, United States
CATEGORIES:Crane Events
END:VEVENT
BEGIN:VEVENT
DTSTART;TZID=America/Chicago:20251112T130000
DTEND;TZID=America/Chicago:20251112T133000
DTSTAMP:20260422T212518
CREATED:20250926T162639Z
LAST-MODIFIED:20250926T162639Z
UID:12885-1762952400-1762954200@www.stonecountylibrary.org
SUMMARY:Wednesday Walk in the Park
DESCRIPTION:Ages: 18+
URL:https://www.stonecountylibrary.org/event/wednesday-walk-in-the-park-95/
LOCATION:Crane Library\, 201 Main Street\, Crane\, MO\, 65633\, United States
CATEGORIES:Crane Events
END:VEVENT
BEGIN:VEVENT
DTSTART;TZID=America/Chicago:20251112T133000
DTEND;TZID=America/Chicago:20251112T143000
DTSTAMP:20260422T212518
CREATED:20250926T163012Z
LAST-MODIFIED:20250926T163012Z
UID:12898-1762954200-1762957800@www.stonecountylibrary.org
SUMMARY:Wednesday Workouts
DESCRIPTION:Ages: 18+
URL:https://www.stonecountylibrary.org/event/wednesday-workouts-87/
LOCATION:Crane Library\, 201 Main Street\, Crane\, MO\, 65633\, United States
CATEGORIES:Crane Events
END:VEVENT
BEGIN:VEVENT
DTSTART;TZID=America/Chicago:20251113T100000
DTEND;TZID=America/Chicago:20251113T110000
DTSTAMP:20260422T212518
CREATED:20250926T162349Z
LAST-MODIFIED:20250926T162349Z
UID:12879-1763028000-1763031600@www.stonecountylibrary.org
SUMMARY:Book Club
DESCRIPTION:Hidden Figures by Margot Lee Shetterly \nMinding Frankie by Maeve Binchy \nAges: 18+
URL:https://www.stonecountylibrary.org/event/book-club-63/
LOCATION:Crane Library\, 201 Main Street\, Crane\, MO\, 65633\, United States
CATEGORIES:Crane Events
END:VEVENT
BEGIN:VEVENT
DTSTART;TZID=America/Chicago:20251114T103000
DTEND;TZID=America/Chicago:20251114T113000
DTSTAMP:20260422T212518
CREATED:20250926T152822Z
LAST-MODIFIED:20250926T152822Z
UID:12781-1763116200-1763119800@www.stonecountylibrary.org
SUMMARY:Activity Hour
DESCRIPTION:Karaoke! \nAges: birth + \nParents must stay with their children under the age of 12. \nActivities are subject to change.
URL:https://www.stonecountylibrary.org/event/activity-hour-107/
LOCATION:Crane Library\, 201 Main Street\, Crane\, MO\, 65633\, United States
CATEGORIES:Crane Events
END:VEVENT
BEGIN:VEVENT
DTSTART;TZID=America/Chicago:20251117T110000
DTEND;TZID=America/Chicago:20251117T120000
DTSTAMP:20260422T212518
CREATED:20250926T160640Z
LAST-MODIFIED:20250926T160640Z
UID:12845-1763377200-1763380800@www.stonecountylibrary.org
SUMMARY:S.T.A.R.
DESCRIPTION:Ages: 6-12 years
URL:https://www.stonecountylibrary.org/event/s-t-a-r-74/
LOCATION:Crane Library\, 201 Main Street\, Crane\, MO\, 65633\, United States
CATEGORIES:Crane Events
END:VEVENT
BEGIN:VEVENT
DTSTART;TZID=America/Chicago:20251117T140000
DTEND;TZID=America/Chicago:20251117T150000
DTSTAMP:20260422T212518
CREATED:20250926T161242Z
LAST-MODIFIED:20250926T161242Z
UID:12861-1763388000-1763391600@www.stonecountylibrary.org
SUMMARY:Teen Time
DESCRIPTION:Ages: 10-18 years
URL:https://www.stonecountylibrary.org/event/teen-time-67/
LOCATION:Crane Library\, 201 Main Street\, Crane\, MO\, 65633\, United States
CATEGORIES:Crane Events
END:VEVENT
BEGIN:VEVENT
DTSTART;TZID=America/Chicago:20251118T100000
DTEND;TZID=America/Chicago:20251118T110000
DTSTAMP:20260422T212518
CREATED:20250926T141030Z
LAST-MODIFIED:20250926T141030Z
UID:12699-1763460000-1763463600@www.stonecountylibrary.org
SUMMARY:Storytime
DESCRIPTION:Ages: birth-6
URL:https://www.stonecountylibrary.org/event/storytime-245/
LOCATION:Crane Library\, 201 Main Street\, Crane\, MO\, 65633\, United States
CATEGORIES:Crane Events
END:VEVENT
BEGIN:VEVENT
DTSTART;TZID=America/Chicago:20251119T130000
DTEND;TZID=America/Chicago:20251119T133000
DTSTAMP:20260422T212518
CREATED:20250926T162708Z
LAST-MODIFIED:20250926T162708Z
UID:12887-1763557200-1763559000@www.stonecountylibrary.org
SUMMARY:Wednesday Walk in the Park
DESCRIPTION:Ages: 18+
URL:https://www.stonecountylibrary.org/event/wednesday-walk-in-the-park-96/
LOCATION:Crane Library\, 201 Main Street\, Crane\, MO\, 65633\, United States
CATEGORIES:Crane Events
END:VEVENT
BEGIN:VEVENT
DTSTART;TZID=America/Chicago:20251119T133000
DTEND;TZID=America/Chicago:20251119T143000
DTSTAMP:20260422T212518
CREATED:20250926T163034Z
LAST-MODIFIED:20250926T163034Z
UID:12900-1763559000-1763562600@www.stonecountylibrary.org
SUMMARY:Wednesday Workouts
DESCRIPTION:Ages: 18+
URL:https://www.stonecountylibrary.org/event/wednesday-workouts-88/
LOCATION:Crane Library\, 201 Main Street\, Crane\, MO\, 65633\, United States
CATEGORIES:Crane Events
END:VEVENT
BEGIN:VEVENT
DTSTART;TZID=America/Chicago:20251120T120000
DTEND;TZID=America/Chicago:20251120T130000
DTSTAMP:20260422T212518
CREATED:20250926T162512Z
LAST-MODIFIED:20250926T162512Z
UID:12881-1763640000-1763643600@www.stonecountylibrary.org
SUMMARY:Community Table
DESCRIPTION:Thanksgiving Appetizers \nAges: birth+
URL:https://www.stonecountylibrary.org/event/community-table-2/
LOCATION:Crane Library\, 201 Main Street\, Crane\, MO\, 65633\, United States
CATEGORIES:Crane Events
END:VEVENT
BEGIN:VEVENT
DTSTART;TZID=America/Chicago:20251121T103000
DTEND;TZID=America/Chicago:20251121T113000
DTSTAMP:20260422T212518
CREATED:20250926T152902Z
LAST-MODIFIED:20250926T152902Z
UID:12783-1763721000-1763724600@www.stonecountylibrary.org
SUMMARY:Activity Hour
DESCRIPTION:Craft! \nAges: birth + \nParents must stay with their children under the age of 12. \nActivities are subject to change
URL:https://www.stonecountylibrary.org/event/activity-hour-108/
LOCATION:Crane Library\, 201 Main Street\, Crane\, MO\, 65633\, United States
CATEGORIES:Crane Events
END:VEVENT
BEGIN:VEVENT
DTSTART;TZID=America/Chicago:20251124T110000
DTEND;TZID=America/Chicago:20251124T120000
DTSTAMP:20260422T212518
CREATED:20250926T160709Z
LAST-MODIFIED:20250926T160709Z
UID:12847-1763982000-1763985600@www.stonecountylibrary.org
SUMMARY:S.T.A.R.
DESCRIPTION:Ages: 6-12 years
URL:https://www.stonecountylibrary.org/event/s-t-a-r-75/
LOCATION:Crane Library\, 201 Main Street\, Crane\, MO\, 65633\, United States
CATEGORIES:Crane Events
END:VEVENT
BEGIN:VEVENT
DTSTART;TZID=America/Chicago:20251124T140000
DTEND;TZID=America/Chicago:20251124T150000
DTSTAMP:20260422T212518
CREATED:20250926T161315Z
LAST-MODIFIED:20250926T161315Z
UID:12863-1763992800-1763996400@www.stonecountylibrary.org
SUMMARY:Teen Time
DESCRIPTION:Ages: 10-18 years
URL:https://www.stonecountylibrary.org/event/teen-time-68/
LOCATION:Crane Library\, 201 Main Street\, Crane\, MO\, 65633\, United States
CATEGORIES:Crane Events
END:VEVENT
BEGIN:VEVENT
DTSTART;TZID=America/Chicago:20251125T100000
DTEND;TZID=America/Chicago:20251125T110000
DTSTAMP:20260422T212518
CREATED:20250926T141057Z
LAST-MODIFIED:20250926T141057Z
UID:12701-1764064800-1764068400@www.stonecountylibrary.org
SUMMARY:Storytime
DESCRIPTION:Ages: birth-6
URL:https://www.stonecountylibrary.org/event/storytime-246/
LOCATION:Crane Library\, 201 Main Street\, Crane\, MO\, 65633\, United States
CATEGORIES:Crane Events
END:VEVENT
END:VCALENDAR