BEGIN:VCALENDAR
VERSION:2.0
PRODID:-//Stone County Library - ECPv6.15.18//NONSGML v1.0//EN
CALSCALE:GREGORIAN
METHOD:PUBLISH
X-WR-CALNAME:Stone County Library
X-ORIGINAL-URL:https://www.stonecountylibrary.org
X-WR-CALDESC:Events for Stone County Library
REFRESH-INTERVAL;VALUE=DURATION:PT1H
X-Robots-Tag:noindex
X-PUBLISHED-TTL:PT1H
BEGIN:VTIMEZONE
TZID:America/Chicago
BEGIN:DAYLIGHT
TZOFFSETFROM:-0600
TZOFFSETTO:-0500
TZNAME:CDT
DTSTART:20250309T080000
END:DAYLIGHT
BEGIN:STANDARD
TZOFFSETFROM:-0500
TZOFFSETTO:-0600
TZNAME:CST
DTSTART:20251102T070000
END:STANDARD
BEGIN:DAYLIGHT
TZOFFSETFROM:-0600
TZOFFSETTO:-0500
TZNAME:CDT
DTSTART:20260308T080000
END:DAYLIGHT
BEGIN:STANDARD
TZOFFSETFROM:-0500
TZOFFSETTO:-0600
TZNAME:CST
DTSTART:20261101T070000
END:STANDARD
BEGIN:DAYLIGHT
TZOFFSETFROM:-0600
TZOFFSETTO:-0500
TZNAME:CDT
DTSTART:20270314T080000
END:DAYLIGHT
BEGIN:STANDARD
TZOFFSETFROM:-0500
TZOFFSETTO:-0600
TZNAME:CST
DTSTART:20271107T070000
END:STANDARD
END:VTIMEZONE
BEGIN:VEVENT
DTSTART;TZID=America/Chicago:20260102T103000
DTEND;TZID=America/Chicago:20260102T113000
DTSTAMP:20260422T184342
CREATED:20251222T161454Z
LAST-MODIFIED:20251222T161454Z
UID:13033-1767349800-1767353400@www.stonecountylibrary.org
SUMMARY:Activity Hour
DESCRIPTION:Ages: birth + \nParents must stay with their children under the age of 12. \nActivities are subject to change.
URL:https://www.stonecountylibrary.org/event/activity-hour-128/
LOCATION:Crane Library\, 201 Main Street\, Crane\, MO\, 65633\, United States
CATEGORIES:Crane Events
END:VEVENT
BEGIN:VEVENT
DTSTART;TZID=America/Chicago:20260105T110000
DTEND;TZID=America/Chicago:20260105T120000
DTSTAMP:20260422T184342
CREATED:20251222T154220Z
LAST-MODIFIED:20251222T154220Z
UID:13001-1767610800-1767614400@www.stonecountylibrary.org
SUMMARY:S.T.A.R.
DESCRIPTION:Ages: 6-12 years
URL:https://www.stonecountylibrary.org/event/s-t-a-r/
LOCATION:Crane Library\, 201 Main Street\, Crane\, MO\, 65633\, United States
CATEGORIES:Crane Events
END:VEVENT
BEGIN:VEVENT
DTSTART;TZID=America/Chicago:20260105T140000
DTEND;TZID=America/Chicago:20260105T150000
DTSTAMP:20260422T184342
CREATED:20251222T154437Z
LAST-MODIFIED:20251222T154437Z
UID:13007-1767621600-1767625200@www.stonecountylibrary.org
SUMMARY:Teen Time
DESCRIPTION:Ages: 10-18 years
URL:https://www.stonecountylibrary.org/event/teen-time-75/
LOCATION:Crane Library\, 201 Main Street\, Crane\, MO\, 65633\, United States
CATEGORIES:Crane Events
END:VEVENT
BEGIN:VEVENT
DTSTART;TZID=America/Chicago:20260106T100000
DTEND;TZID=America/Chicago:20260106T110000
DTSTAMP:20260422T184342
CREATED:20251222T152556Z
LAST-MODIFIED:20251222T152934Z
UID:12976-1767693600-1767697200@www.stonecountylibrary.org
SUMMARY:Storytime
DESCRIPTION:Ages: birth-6
URL:https://www.stonecountylibrary.org/event/storytime-8/
LOCATION:Crane Library\, 201 Main Street\, Crane\, MO\, 65633\, United States
CATEGORIES:Crane Events
END:VEVENT
BEGIN:VEVENT
DTSTART;TZID=America/Chicago:20260107T130000
DTEND;TZID=America/Chicago:20260107T133000
DTSTAMP:20260422T184342
CREATED:20251222T162931Z
LAST-MODIFIED:20251222T162931Z
UID:13061-1767790800-1767792600@www.stonecountylibrary.org
SUMMARY:Wednesday Walk in the Park
DESCRIPTION:Ages: 18+
URL:https://www.stonecountylibrary.org/event/wednesday-walk-in-the-park/
LOCATION:Crane Library\, 201 Main Street\, Crane\, MO\, 65633\, United States
CATEGORIES:Crane Events
END:VEVENT
BEGIN:VEVENT
DTSTART;TZID=America/Chicago:20260107T133000
DTEND;TZID=America/Chicago:20260107T140000
DTSTAMP:20260422T184342
CREATED:20251222T163131Z
LAST-MODIFIED:20251222T163131Z
UID:13069-1767792600-1767794400@www.stonecountylibrary.org
SUMMARY:Wednesday Workouts
DESCRIPTION:Ages: 18+
URL:https://www.stonecountylibrary.org/event/wednesday-workouts/
LOCATION:Crane Library\, 201 Main Street\, Crane\, MO\, 65633\, United States
CATEGORIES:Crane Events
END:VEVENT
BEGIN:VEVENT
DTSTART;TZID=America/Chicago:20260109T103000
DTEND;TZID=America/Chicago:20260109T113000
DTSTAMP:20260422T184342
CREATED:20251222T161521Z
LAST-MODIFIED:20251222T161521Z
UID:13035-1767954600-1767958200@www.stonecountylibrary.org
SUMMARY:Activity Hour
DESCRIPTION:Ages: birth + \nParents must stay with their children under the age of 12. \nActivities are subject to change.
URL:https://www.stonecountylibrary.org/event/activity-hour-129/
LOCATION:Crane Library\, 201 Main Street\, Crane\, MO\, 65633\, United States
CATEGORIES:Crane Events
END:VEVENT
BEGIN:VEVENT
DTSTART;TZID=America/Chicago:20260112T110000
DTEND;TZID=America/Chicago:20260112T120000
DTSTAMP:20260422T184342
CREATED:20251222T154245Z
LAST-MODIFIED:20251222T154245Z
UID:13003-1768215600-1768219200@www.stonecountylibrary.org
SUMMARY:S.T.A.R.
DESCRIPTION:Ages: 6-12 years
URL:https://www.stonecountylibrary.org/event/s-t-a-r-2/
LOCATION:Crane Library\, 201 Main Street\, Crane\, MO\, 65633\, United States
CATEGORIES:Crane Events
END:VEVENT
BEGIN:VEVENT
DTSTART;TZID=America/Chicago:20260112T140000
DTEND;TZID=America/Chicago:20260112T150000
DTSTAMP:20260422T184342
CREATED:20251222T154515Z
LAST-MODIFIED:20251222T154515Z
UID:13009-1768226400-1768230000@www.stonecountylibrary.org
SUMMARY:Teen Time
DESCRIPTION:Ages: 10-18 years
URL:https://www.stonecountylibrary.org/event/teen-time-76/
LOCATION:Crane Library\, 201 Main Street\, Crane\, MO\, 65633\, United States
CATEGORIES:Crane Events
END:VEVENT
BEGIN:VEVENT
DTSTART;TZID=America/Chicago:20260113T100000
DTEND;TZID=America/Chicago:20260113T110000
DTSTAMP:20260422T184342
CREATED:20251222T152624Z
LAST-MODIFIED:20251222T153006Z
UID:12978-1768298400-1768302000@www.stonecountylibrary.org
SUMMARY:Storytime
DESCRIPTION:Ages: birth-6
URL:https://www.stonecountylibrary.org/event/storytime-9/
LOCATION:Crane Library\, 201 Main Street\, Crane\, MO\, 65633\, United States
CATEGORIES:Crane Events
END:VEVENT
BEGIN:VEVENT
DTSTART;TZID=America/Chicago:20260114T130000
DTEND;TZID=America/Chicago:20260114T133000
DTSTAMP:20260422T184342
CREATED:20251222T162953Z
LAST-MODIFIED:20251222T162953Z
UID:13063-1768395600-1768397400@www.stonecountylibrary.org
SUMMARY:Wednesday Walk in the Park
DESCRIPTION:Ages: 18+
URL:https://www.stonecountylibrary.org/event/wednesday-walk-in-the-park-2/
LOCATION:Crane Library\, 201 Main Street\, Crane\, MO\, 65633\, United States
CATEGORIES:Crane Events
END:VEVENT
BEGIN:VEVENT
DTSTART;TZID=America/Chicago:20260114T133000
DTEND;TZID=America/Chicago:20260114T140000
DTSTAMP:20260422T184342
CREATED:20251222T163158Z
LAST-MODIFIED:20251222T163158Z
UID:13071-1768397400-1768399200@www.stonecountylibrary.org
SUMMARY:Wednesday Workouts
DESCRIPTION:Ages: 18+
URL:https://www.stonecountylibrary.org/event/wednesday-workouts-2/
LOCATION:Crane Library\, 201 Main Street\, Crane\, MO\, 65633\, United States
CATEGORIES:Crane Events
END:VEVENT
BEGIN:VEVENT
DTSTART;TZID=America/Chicago:20260116T103000
DTEND;TZID=America/Chicago:20260116T113000
DTSTAMP:20260422T184342
CREATED:20251222T161548Z
LAST-MODIFIED:20251222T161736Z
UID:13037-1768559400-1768563000@www.stonecountylibrary.org
SUMMARY:Activity Hour
DESCRIPTION:Ages: birth + \nParents must stay with their children under the age of 12. \nActivities are subject to change.
URL:https://www.stonecountylibrary.org/event/activity-hour-130/
LOCATION:Crane Library\, 201 Main Street\, Crane\, MO\, 65633\, United States
CATEGORIES:Crane Events
END:VEVENT
BEGIN:VEVENT
DTSTART;TZID=America/Chicago:20260120T100000
DTEND;TZID=America/Chicago:20260120T110000
DTSTAMP:20260422T184342
CREATED:20251222T152650Z
LAST-MODIFIED:20251222T153111Z
UID:12980-1768903200-1768906800@www.stonecountylibrary.org
SUMMARY:Storytime
DESCRIPTION:Ages: birth-6
URL:https://www.stonecountylibrary.org/event/storytime-10/
LOCATION:Crane Library\, 201 Main Street\, Crane\, MO\, 65633\, United States
CATEGORIES:Crane Events
END:VEVENT
BEGIN:VEVENT
DTSTART;TZID=America/Chicago:20260121T130000
DTEND;TZID=America/Chicago:20260121T133000
DTSTAMP:20260422T184342
CREATED:20251222T163017Z
LAST-MODIFIED:20251222T163017Z
UID:13065-1769000400-1769002200@www.stonecountylibrary.org
SUMMARY:Wednesday Walk in the Park
DESCRIPTION:Ages: 18+
URL:https://www.stonecountylibrary.org/event/wednesday-walk-in-the-park-3/
LOCATION:Crane Library\, 201 Main Street\, Crane\, MO\, 65633\, United States
CATEGORIES:Crane Events
END:VEVENT
BEGIN:VEVENT
DTSTART;TZID=America/Chicago:20260121T133000
DTEND;TZID=America/Chicago:20260121T140000
DTSTAMP:20260422T184342
CREATED:20251222T163236Z
LAST-MODIFIED:20251222T163236Z
UID:13073-1769002200-1769004000@www.stonecountylibrary.org
SUMMARY:Wednesday Workouts
DESCRIPTION:Ages: 18+
URL:https://www.stonecountylibrary.org/event/wednesday-workouts-3/
LOCATION:Crane Library\, 201 Main Street\, Crane\, MO\, 65633\, United States
CATEGORIES:Crane Events
END:VEVENT
BEGIN:VEVENT
DTSTART;TZID=America/Chicago:20260123T103000
DTEND;TZID=America/Chicago:20260123T113000
DTSTAMP:20260422T184342
CREATED:20251222T161624Z
LAST-MODIFIED:20251222T161749Z
UID:13039-1769164200-1769167800@www.stonecountylibrary.org
SUMMARY:Activity Hour
DESCRIPTION:Ages: birth + \nParents must stay with their children under the age of 12. \nActivities are subject to change.
URL:https://www.stonecountylibrary.org/event/activity-hour-131/
LOCATION:Crane Library\, 201 Main Street\, Crane\, MO\, 65633\, United States
CATEGORIES:Crane Events
END:VEVENT
BEGIN:VEVENT
DTSTART;TZID=America/Chicago:20260126T110000
DTEND;TZID=America/Chicago:20260126T120000
DTSTAMP:20260422T184342
CREATED:20251222T154316Z
LAST-MODIFIED:20251222T154316Z
UID:13005-1769425200-1769428800@www.stonecountylibrary.org
SUMMARY:S.T.A.R.
DESCRIPTION:Ages: 6-12 years
URL:https://www.stonecountylibrary.org/event/s-t-a-r-3/
LOCATION:Crane Library\, 201 Main Street\, Crane\, MO\, 65633\, United States
CATEGORIES:Crane Events
END:VEVENT
BEGIN:VEVENT
DTSTART;TZID=America/Chicago:20260126T140000
DTEND;TZID=America/Chicago:20260126T150000
DTSTAMP:20260422T184342
CREATED:20251222T154545Z
LAST-MODIFIED:20251222T154545Z
UID:13011-1769436000-1769439600@www.stonecountylibrary.org
SUMMARY:Teen Time
DESCRIPTION:Ages: 10-18 years
URL:https://www.stonecountylibrary.org/event/teen-time-77/
LOCATION:Crane Library\, 201 Main Street\, Crane\, MO\, 65633\, United States
CATEGORIES:Crane Events
END:VEVENT
BEGIN:VEVENT
DTSTART;TZID=America/Chicago:20260127T100000
DTEND;TZID=America/Chicago:20260127T110000
DTSTAMP:20260422T184342
CREATED:20251222T152717Z
LAST-MODIFIED:20251222T153136Z
UID:12982-1769508000-1769511600@www.stonecountylibrary.org
SUMMARY:Storytime
DESCRIPTION:Ages: birth-6
URL:https://www.stonecountylibrary.org/event/storytime-11/
LOCATION:Crane Library\, 201 Main Street\, Crane\, MO\, 65633\, United States
CATEGORIES:Crane Events
END:VEVENT
BEGIN:VEVENT
DTSTART;TZID=America/Chicago:20260128T130000
DTEND;TZID=America/Chicago:20260128T133000
DTSTAMP:20260422T184342
CREATED:20251222T163043Z
LAST-MODIFIED:20251222T163043Z
UID:13067-1769605200-1769607000@www.stonecountylibrary.org
SUMMARY:Wednesday Walk in the Park
DESCRIPTION:Ages: 18+
URL:https://www.stonecountylibrary.org/event/wednesday-walk-in-the-park-100/
LOCATION:Crane Library\, 201 Main Street\, Crane\, MO\, 65633\, United States
CATEGORIES:Crane Events
END:VEVENT
BEGIN:VEVENT
DTSTART;TZID=America/Chicago:20260128T133000
DTEND;TZID=America/Chicago:20260128T140000
DTSTAMP:20260422T184342
CREATED:20251222T163259Z
LAST-MODIFIED:20251222T163259Z
UID:13075-1769607000-1769608800@www.stonecountylibrary.org
SUMMARY:Wednesday Workouts
DESCRIPTION:Ages: 18+
URL:https://www.stonecountylibrary.org/event/wednesday-workouts-4/
LOCATION:Crane Library\, 201 Main Street\, Crane\, MO\, 65633\, United States
CATEGORIES:Crane Events
END:VEVENT
BEGIN:VEVENT
DTSTART;TZID=America/Chicago:20260130T103000
DTEND;TZID=America/Chicago:20260130T113000
DTSTAMP:20260422T184342
CREATED:20251222T161703Z
LAST-MODIFIED:20251222T161703Z
UID:13041-1769769000-1769772600@www.stonecountylibrary.org
SUMMARY:Activity Hour
DESCRIPTION:Ages: birth + \nParents must stay with their children under the age of 12. \nActivities are subject to change.
URL:https://www.stonecountylibrary.org/event/activity-hour-132/
LOCATION:Crane Library\, 201 Main Street\, Crane\, MO\, 65633\, United States
CATEGORIES:Crane Events
END:VEVENT
END:VCALENDAR