BEGIN:VCALENDAR
VERSION:2.0
PRODID:-//Stone County Library - ECPv6.15.18//NONSGML v1.0//EN
CALSCALE:GREGORIAN
METHOD:PUBLISH
X-ORIGINAL-URL:https://www.stonecountylibrary.org
X-WR-CALDESC:Events for Stone County Library
REFRESH-INTERVAL;VALUE=DURATION:PT1H
X-Robots-Tag:noindex
X-PUBLISHED-TTL:PT1H
BEGIN:VTIMEZONE
TZID:America/Chicago
BEGIN:DAYLIGHT
TZOFFSETFROM:-0600
TZOFFSETTO:-0500
TZNAME:CDT
DTSTART:20250309T080000
END:DAYLIGHT
BEGIN:STANDARD
TZOFFSETFROM:-0500
TZOFFSETTO:-0600
TZNAME:CST
DTSTART:20251102T070000
END:STANDARD
BEGIN:DAYLIGHT
TZOFFSETFROM:-0600
TZOFFSETTO:-0500
TZNAME:CDT
DTSTART:20260308T080000
END:DAYLIGHT
BEGIN:STANDARD
TZOFFSETFROM:-0500
TZOFFSETTO:-0600
TZNAME:CST
DTSTART:20261101T070000
END:STANDARD
BEGIN:DAYLIGHT
TZOFFSETFROM:-0600
TZOFFSETTO:-0500
TZNAME:CDT
DTSTART:20270314T080000
END:DAYLIGHT
BEGIN:STANDARD
TZOFFSETFROM:-0500
TZOFFSETTO:-0600
TZNAME:CST
DTSTART:20271107T070000
END:STANDARD
END:VTIMEZONE
BEGIN:VEVENT
DTSTART;TZID=America/Chicago:20260601T110000
DTEND;TZID=America/Chicago:20260601T120000
DTSTAMP:20260422T134224
CREATED:20260414T160543Z
LAST-MODIFIED:20260414T160553Z
UID:13777-1780311600-1780315200@www.stonecountylibrary.org
SUMMARY:Creativity Club
DESCRIPTION:  \nAges: 6-11
URL:https://www.stonecountylibrary.org/event/creativity-club-11/
LOCATION:Crane Library\, 201 Main Street\, Crane\, MO\, 65633\, United States
CATEGORIES:Crane Events
END:VEVENT
BEGIN:VEVENT
DTSTART;TZID=America/Chicago:20260602T100000
DTEND;TZID=America/Chicago:20260602T110000
DTSTAMP:20260422T134224
CREATED:20260414T151120Z
LAST-MODIFIED:20260414T151120Z
UID:13717-1780394400-1780398000@www.stonecountylibrary.org
SUMMARY:Storytime
DESCRIPTION:Ages: birth-6
URL:https://www.stonecountylibrary.org/event/storytime-261/
LOCATION:Crane Library\, 201 Main Street\, Crane\, MO\, 65633\, United States
CATEGORIES:Crane Events
END:VEVENT
BEGIN:VEVENT
DTSTART;TZID=America/Chicago:20260603T130000
DTEND;TZID=America/Chicago:20260603T133000
DTSTAMP:20260422T134224
CREATED:20260414T155054Z
LAST-MODIFIED:20260414T155054Z
UID:13735-1780491600-1780493400@www.stonecountylibrary.org
SUMMARY:Wednesday Walk in the Park
DESCRIPTION:Ages: 18+
URL:https://www.stonecountylibrary.org/event/wednesday-walk-in-the-park-18/
LOCATION:Crane Library\, 201 Main Street\, Crane\, MO\, 65633\, United States
CATEGORIES:Crane Events
END:VEVENT
BEGIN:VEVENT
DTSTART;TZID=America/Chicago:20260603T133000
DTEND;TZID=America/Chicago:20260603T140000
DTSTAMP:20260422T134224
CREATED:20260414T155302Z
LAST-MODIFIED:20260414T155302Z
UID:13743-1780493400-1780495200@www.stonecountylibrary.org
SUMMARY:Wednesday Workouts
DESCRIPTION:Ages: 18+
URL:https://www.stonecountylibrary.org/event/wednesday-workouts-21/
LOCATION:Crane Library\, 201 Main Street\, Crane\, MO\, 65633\, United States
CATEGORIES:Crane Events
END:VEVENT
BEGIN:VEVENT
DTSTART;TZID=America/Chicago:20260605T103000
DTEND;TZID=America/Chicago:20260605T113000
DTSTAMP:20260422T134224
CREATED:20260414T162112Z
LAST-MODIFIED:20260414T162112Z
UID:13806-1780655400-1780659000@www.stonecountylibrary.org
SUMMARY:Activity Hour
DESCRIPTION:  \nAges: birth + \nParents must stay with their children under the age of 12.
URL:https://www.stonecountylibrary.org/event/activity-hour-182/
LOCATION:Crane Library\, 201 Main Street\, Crane\, MO\, 65633\, United States
CATEGORIES:Crane Events
END:VEVENT
BEGIN:VEVENT
DTSTART;TZID=America/Chicago:20260608T110000
DTEND;TZID=America/Chicago:20260608T120000
DTSTAMP:20260422T134224
CREATED:20260414T160634Z
LAST-MODIFIED:20260414T160634Z
UID:13780-1780916400-1780920000@www.stonecountylibrary.org
SUMMARY:Creativity Club
DESCRIPTION:Ages: 6-11
URL:https://www.stonecountylibrary.org/event/creativity-club-12/
LOCATION:Crane Library\, 201 Main Street\, Crane\, MO\, 65633\, United States
CATEGORIES:Crane Events
END:VEVENT
BEGIN:VEVENT
DTSTART;TZID=America/Chicago:20260609T100000
DTEND;TZID=America/Chicago:20260609T110000
DTSTAMP:20260422T134224
CREATED:20260414T151143Z
LAST-MODIFIED:20260414T151143Z
UID:13719-1780999200-1781002800@www.stonecountylibrary.org
SUMMARY:Storytime
DESCRIPTION:Ages: birth-6
URL:https://www.stonecountylibrary.org/event/storytime-262/
LOCATION:Crane Library\, 201 Main Street\, Crane\, MO\, 65633\, United States
CATEGORIES:Crane Events
END:VEVENT
BEGIN:VEVENT
DTSTART;TZID=America/Chicago:20260610T130000
DTEND;TZID=America/Chicago:20260610T133000
DTSTAMP:20260422T134224
CREATED:20260414T155123Z
LAST-MODIFIED:20260414T155123Z
UID:13737-1781096400-1781098200@www.stonecountylibrary.org
SUMMARY:Wednesday Walk in the Park
DESCRIPTION:Ages: 18+
URL:https://www.stonecountylibrary.org/event/wednesday-walk-in-the-park-19/
LOCATION:Crane Library\, 201 Main Street\, Crane\, MO\, 65633\, United States
CATEGORIES:Crane Events
END:VEVENT
BEGIN:VEVENT
DTSTART;TZID=America/Chicago:20260610T133000
DTEND;TZID=America/Chicago:20260610T140000
DTSTAMP:20260422T134224
CREATED:20260414T155335Z
LAST-MODIFIED:20260414T155335Z
UID:13745-1781098200-1781100000@www.stonecountylibrary.org
SUMMARY:Wednesday Workouts
DESCRIPTION:Ages: 18+
URL:https://www.stonecountylibrary.org/event/wednesday-workouts-22/
LOCATION:Crane Library\, 201 Main Street\, Crane\, MO\, 65633\, United States
CATEGORIES:Crane Events
END:VEVENT
BEGIN:VEVENT
DTSTART;TZID=America/Chicago:20260612T103000
DTEND;TZID=America/Chicago:20260612T113000
DTSTAMP:20260422T134224
CREATED:20260414T162141Z
LAST-MODIFIED:20260414T162141Z
UID:13808-1781260200-1781263800@www.stonecountylibrary.org
SUMMARY:Activity Hour
DESCRIPTION:  \nAges: birth + \nParents must stay with their children under the age of 12.
URL:https://www.stonecountylibrary.org/event/activity-hour-183/
LOCATION:Crane Library\, 201 Main Street\, Crane\, MO\, 65633\, United States
CATEGORIES:Crane Events
END:VEVENT
BEGIN:VEVENT
DTSTART;TZID=America/Chicago:20260616T100000
DTEND;TZID=America/Chicago:20260616T110000
DTSTAMP:20260422T134224
CREATED:20260414T151208Z
LAST-MODIFIED:20260414T151422Z
UID:13721-1781604000-1781607600@www.stonecountylibrary.org
SUMMARY:Storytime
DESCRIPTION:Ages: birth-6
URL:https://www.stonecountylibrary.org/event/storytime-263/
LOCATION:Crane Library\, 201 Main Street\, Crane\, MO\, 65633\, United States
CATEGORIES:Crane Events
END:VEVENT
BEGIN:VEVENT
DTSTART;TZID=America/Chicago:20260617T130000
DTEND;TZID=America/Chicago:20260617T133000
DTSTAMP:20260422T134224
CREATED:20260414T155154Z
LAST-MODIFIED:20260414T155154Z
UID:13739-1781701200-1781703000@www.stonecountylibrary.org
SUMMARY:Wednesday Walk in the Park
DESCRIPTION:Ages: 18+
URL:https://www.stonecountylibrary.org/event/wednesday-walk-in-the-park-20/
LOCATION:Crane Library\, 201 Main Street\, Crane\, MO\, 65633\, United States
CATEGORIES:Crane Events
END:VEVENT
BEGIN:VEVENT
DTSTART;TZID=America/Chicago:20260617T133000
DTEND;TZID=America/Chicago:20260617T140000
DTSTAMP:20260422T134224
CREATED:20260414T155407Z
LAST-MODIFIED:20260414T155407Z
UID:13747-1781703000-1781704800@www.stonecountylibrary.org
SUMMARY:Wednesday Workouts
DESCRIPTION:Ages: 18+
URL:https://www.stonecountylibrary.org/event/wednesday-workouts-23/
LOCATION:Crane Library\, 201 Main Street\, Crane\, MO\, 65633\, United States
CATEGORIES:Crane Events
END:VEVENT
BEGIN:VEVENT
DTSTART;TZID=America/Chicago:20260619T103000
DTEND;TZID=America/Chicago:20260619T113000
DTSTAMP:20260422T134224
CREATED:20260414T162208Z
LAST-MODIFIED:20260414T162208Z
UID:13810-1781865000-1781868600@www.stonecountylibrary.org
SUMMARY:Activity Hour
DESCRIPTION:  \nAges: birth + \nParents must stay with their children under the age of 12.
URL:https://www.stonecountylibrary.org/event/activity-hour-184/
LOCATION:Crane Library\, 201 Main Street\, Crane\, MO\, 65633\, United States
CATEGORIES:Crane Events
END:VEVENT
BEGIN:VEVENT
DTSTART;TZID=America/Chicago:20260623T100000
DTEND;TZID=America/Chicago:20260623T110000
DTSTAMP:20260422T134224
CREATED:20260414T151237Z
LAST-MODIFIED:20260414T151237Z
UID:13723-1782208800-1782212400@www.stonecountylibrary.org
SUMMARY:Storytime
DESCRIPTION:Ages: birth-6
URL:https://www.stonecountylibrary.org/event/storytime-264/
LOCATION:Crane Library\, 201 Main Street\, Crane\, MO\, 65633\, United States
CATEGORIES:Crane Events
END:VEVENT
BEGIN:VEVENT
DTSTART;TZID=America/Chicago:20260624T130000
DTEND;TZID=America/Chicago:20260624T133000
DTSTAMP:20260422T134224
CREATED:20260414T155222Z
LAST-MODIFIED:20260414T155222Z
UID:13741-1782306000-1782307800@www.stonecountylibrary.org
SUMMARY:Wednesday Walk in the Park
DESCRIPTION:Ages: 18+
URL:https://www.stonecountylibrary.org/event/wednesday-walk-in-the-park-106/
LOCATION:Crane Library\, 201 Main Street\, Crane\, MO\, 65633\, United States
CATEGORIES:Crane Events
END:VEVENT
BEGIN:VEVENT
DTSTART;TZID=America/Chicago:20260624T133000
DTEND;TZID=America/Chicago:20260624T140000
DTSTAMP:20260422T134224
CREATED:20260414T155432Z
LAST-MODIFIED:20260414T155432Z
UID:13749-1782307800-1782309600@www.stonecountylibrary.org
SUMMARY:Wednesday Workouts
DESCRIPTION:Ages: 18+
URL:https://www.stonecountylibrary.org/event/wednesday-workouts-92/
LOCATION:Crane Library\, 201 Main Street\, Crane\, MO\, 65633\, United States
CATEGORIES:Crane Events
END:VEVENT
BEGIN:VEVENT
DTSTART;TZID=America/Chicago:20260626T103000
DTEND;TZID=America/Chicago:20260626T123000
DTSTAMP:20260422T134224
CREATED:20260414T162235Z
LAST-MODIFIED:20260414T162235Z
UID:13812-1782469800-1782477000@www.stonecountylibrary.org
SUMMARY:Activity Hour
DESCRIPTION:  \nAges: birth + \nParents must stay with their children under the age of 12.
URL:https://www.stonecountylibrary.org/event/activity-hour-185/
LOCATION:Crane Library\, 201 Main Street\, Crane\, MO\, 65633\, United States
CATEGORIES:Crane Events
END:VEVENT
BEGIN:VEVENT
DTSTART;TZID=America/Chicago:20260629T110000
DTEND;TZID=America/Chicago:20260629T120000
DTSTAMP:20260422T134224
CREATED:20260414T160813Z
LAST-MODIFIED:20260414T160813Z
UID:13786-1782730800-1782734400@www.stonecountylibrary.org
SUMMARY:Creativity Club
DESCRIPTION:Ages: 6-11
URL:https://www.stonecountylibrary.org/event/creativity-club-15/
LOCATION:Crane Library\, 201 Main Street\, Crane\, MO\, 65633\, United States
CATEGORIES:Crane Events
END:VEVENT
BEGIN:VEVENT
DTSTART;TZID=America/Chicago:20260630T100000
DTEND;TZID=America/Chicago:20260630T110000
DTSTAMP:20260422T134224
CREATED:20260414T151300Z
LAST-MODIFIED:20260414T151300Z
UID:13725-1782813600-1782817200@www.stonecountylibrary.org
SUMMARY:Storytime
DESCRIPTION:Ages: birth-6
URL:https://www.stonecountylibrary.org/event/storytime-265/
LOCATION:Crane Library\, 201 Main Street\, Crane\, MO\, 65633\, United States
CATEGORIES:Crane Events
END:VEVENT
END:VCALENDAR