BEGIN:VCALENDAR
VERSION:2.0
PRODID:-//Stone County Library - ECPv6.15.18//NONSGML v1.0//EN
CALSCALE:GREGORIAN
METHOD:PUBLISH
X-WR-CALNAME:Stone County Library
X-ORIGINAL-URL:https://www.stonecountylibrary.org
X-WR-CALDESC:Events for Stone County Library
REFRESH-INTERVAL;VALUE=DURATION:PT1H
X-Robots-Tag:noindex
X-PUBLISHED-TTL:PT1H
BEGIN:VTIMEZONE
TZID:America/Chicago
BEGIN:DAYLIGHT
TZOFFSETFROM:-0600
TZOFFSETTO:-0500
TZNAME:CDT
DTSTART:20240310T080000
END:DAYLIGHT
BEGIN:STANDARD
TZOFFSETFROM:-0500
TZOFFSETTO:-0600
TZNAME:CST
DTSTART:20241103T070000
END:STANDARD
BEGIN:DAYLIGHT
TZOFFSETFROM:-0600
TZOFFSETTO:-0500
TZNAME:CDT
DTSTART:20250309T080000
END:DAYLIGHT
BEGIN:STANDARD
TZOFFSETFROM:-0500
TZOFFSETTO:-0600
TZNAME:CST
DTSTART:20251102T070000
END:STANDARD
BEGIN:DAYLIGHT
TZOFFSETFROM:-0600
TZOFFSETTO:-0500
TZNAME:CDT
DTSTART:20260308T080000
END:DAYLIGHT
BEGIN:STANDARD
TZOFFSETFROM:-0500
TZOFFSETTO:-0600
TZNAME:CST
DTSTART:20261101T070000
END:STANDARD
END:VTIMEZONE
BEGIN:VEVENT
DTSTART;VALUE=DATE:20251111
DTEND;VALUE=DATE:20251112
DTSTAMP:20260423T084936
CREATED:20240815T162221Z
LAST-MODIFIED:20240815T162221Z
UID:10800-1762819200-1762905599@www.stonecountylibrary.org
SUMMARY:Library Closed
DESCRIPTION:
URL:https://www.stonecountylibrary.org/event/library-closed-10/
CATEGORIES:Library Closed
END:VEVENT
BEGIN:VEVENT
DTSTART;TZID=America/Chicago:20251126T130000
DTEND;TZID=America/Chicago:20251126T170000
DTSTAMP:20260423T084936
CREATED:20240815T162324Z
LAST-MODIFIED:20240815T162324Z
UID:10802-1764162000-1764176400@www.stonecountylibrary.org
SUMMARY:Library Closing @ 1
DESCRIPTION:
URL:https://www.stonecountylibrary.org/event/library-closing-1/
CATEGORIES:Library Closed
END:VEVENT
BEGIN:VEVENT
DTSTART;VALUE=DATE:20251127
DTEND;VALUE=DATE:20251128
DTSTAMP:20260423T084936
CREATED:20240815T162349Z
LAST-MODIFIED:20240815T162349Z
UID:10804-1764201600-1764287999@www.stonecountylibrary.org
SUMMARY:Library Closed
DESCRIPTION:
URL:https://www.stonecountylibrary.org/event/library-closed-11/
CATEGORIES:Library Closed
END:VEVENT
BEGIN:VEVENT
DTSTART;VALUE=DATE:20251128
DTEND;VALUE=DATE:20251129
DTSTAMP:20260423T084936
CREATED:20240815T162413Z
LAST-MODIFIED:20240815T162413Z
UID:10806-1764288000-1764374399@www.stonecountylibrary.org
SUMMARY:Library Closed
DESCRIPTION:
URL:https://www.stonecountylibrary.org/event/library-closed-12/
CATEGORIES:Library Closed
END:VEVENT
END:VCALENDAR